BEGIN:VCALENDAR
VERSION:2.0
PRODID:-//wp-events-plugin.com//7.2.3.1//EN
TZID:Europe/London
X-WR-TIMEZONE:Europe/London
BEGIN:VEVENT
UID:315@lewesconclub.com
DTSTART;TZID=Europe/London:20240215T200000
DTEND;TZID=Europe/London:20240215T230000
DTSTAMP:20240214T125421Z
URL:https://www.lewesconclub.com/events/1852/
SUMMARY:Boo Hewerdine & Maia Eden (Sold Out)
DESCRIPTION:Hilltop Sessions Presents: Boo Hewerdine &amp\; Maia Eden\n\n\n
 We're so pleased to welcome legendary songwriter Boo Hewerdine to our Febr
 uary Hilltop Session. Known as lead singer of The Bible and writer whose s
 ongs have been covered by artists including KD Lang and Chris Difford. Boo
  will be supported by Hilltop Session's very own Maia Eden.\n\nBar from 5:
 00pm. Doors 8:00pm to 11:00pm.\n\nSOLD OUT original ticket link and more i
 nfo: www.hilltopsessions.co.uk\n\n\n\nBoo Hewerdine\n\nFor over 30 years B
 oo Hewerdine has been considered one of the UK's finest singer-songwriters
 . As lead singer of seminal band\, The Bible through to his subsequent sol
 o work and long-time collaboration with the incredible Eddi Reader he has 
 become something of a national treasure. He is in demand as a writer\, pro
 ducer and performer. Over a hundred of his songs have been covered by the 
 likes of KD Lang\, Kris Drever\, Chris Difford\, Heidi Talbot and Hannah R
 arity. His last album ‘Before’ was recorded with supreme Danish multi-
  instrumentalist Gustaf Ljunggren. It garnered multiple five star reviews.
 \n\nSince then he has released a lockdown EP\, Singularities and a new alb
 um on Reveal Records.\n\nExpect a great show filled with humanity and humo
 u which includes songs from his new album and his extraordinary back catal
 ogue. A naturally gifted raconteur\, Boo' gigs are always a total joy.\n\n
 Maia Eden\n\nEver since she was a young lass growing up in the Scottish hi
 ghlands\, music has been Maia's love and refuge. Her unique voice was firs
 t evident in Carnoustie's church choir and she has been singing and making
  music ever since\, as a session singer\, as part of various bands - In Bo
 b We Trust &amp\; Edenwood - and now as a solo performer. Her personal lyr
 ics about life and love bring Jackson Browne to mind\, while her unique vo
 ice is reminiscent of Natalie Merchant and K.D. Lang. Maia will be bringin
 g song from her forthcoming album to the Hilltop Sessions stage in additoi
 n to tracks from her debut EP\, New Horizons. Maia\, who is also a co-fond
 er of Hilltop Sessions\, met Boo at a songwriting retreat in the Scottish 
 Highlands where they performed together.\n\nLink to Facebook event: www.fa
 cebook.com\n\n\n\n&nbsp\;
ATTACH;FMTTYPE=image/jpeg:https://www.lewesconclub.com/wp-content/uploads/
 2023/07/BoH.jpg
END:VEVENT
BEGIN:VTIMEZONE
TZID:Europe/London
X-LIC-LOCATION:Europe/London
BEGIN:STANDARD
DTSTART:20231029T010000
TZOFFSETFROM:+0100
TZOFFSETTO:+0000
TZNAME:GMT
END:STANDARD
END:VTIMEZONE
END:VCALENDAR