BEGIN:VCALENDAR
VERSION:2.0
PRODID:-//wp-events-plugin.com//7.2.3.1//EN
TZID:Europe/London
X-WR-TIMEZONE:Europe/London
BEGIN:VEVENT
UID:347@lewesconclub.com
DTSTART;TZID=Europe/London:20231230T190000
DTEND;TZID=Europe/London:20231230T233000
DTSTAMP:20231120T162535Z
URL:https://www.lewesconclub.com/events/80s-hifi-christmas-show/
SUMMARY:80's HiFi Christmas Show (Sold Out)
DESCRIPTION:Black Rabbit Productions Presents: 80's HiFi Christmas Show SOL
 D OUT\n\nAfter SELLING OUT in September\, we are delighted to bring the ba
 nd back for a Christmas party! So grab your tickets early!\nSOLD OUT origi
 nal ticket link: www.seetickets.com\nBar from 5:00pm. Doors Open: 7:00pm\,
  Starts: 8:00pm.\n\nImagine stepping in a time capsule back to the dance h
 alls of the 1980's\, the sounds of Duran Duran\, Tears for Fears\, Frankie
  Goes to Hollywood\, Kate Bush and many more across the airwaves...\n80s H
 iFi are a fully live band dedicated to faithfully recreating your favourit
 e 1980's classics. Searing guitar sounds\, reverb drenched drums\, nu-roma
 ntic vocals\, and wall-wobbling bass\; are all presented in a high energy 
 show featuring the greatest hits of the decade.\nOriginating in Brighton b
 ut operating throughout the UK and beyond\, 80s HiFi are ready to send you
 r event straight back to the 1980s!\n\nFacebook event link: www.facebook.c
 om/events/839420864485253\n\n
ATTACH;FMTTYPE=image/jpeg:https://www.lewesconclub.com/wp-content/uploads/
 2023/09/80sHiFi2023.12.jpg
END:VEVENT
BEGIN:VTIMEZONE
TZID:Europe/London
X-LIC-LOCATION:Europe/London
BEGIN:STANDARD
DTSTART:20231029T010000
TZOFFSETFROM:+0100
TZOFFSETTO:+0000
TZNAME:GMT
END:STANDARD
END:VTIMEZONE
END:VCALENDAR