BEGIN:VCALENDAR
VERSION:2.0
PRODID:-//wp-events-plugin.com//7.2.3.1//EN
TZID:Europe/London
X-WR-TIMEZONE:Europe/London
BEGIN:VEVENT
UID:317@lewesconclub.com
DTSTART;TZID=Europe/London:20241005T200000
DTEND;TZID=Europe/London:20241005T233000
DTSTAMP:20230714T112123Z
URL:https://www.lewesconclub.com/events/adrian-sherwood-on-u-sound-easy-sk
 ankin-djs/
SUMMARY:Adrian Sherwood (On U Sound) // Easy Skankin DJs
DESCRIPTION:Easy Skankin presents: Adrian Sherwood (On U Sound) + Easy Skan
 kin DJs\n\nTickets:      www.tickettailor.com\n\nBar from 5:00pm. Door
 s 8:00pm to 11:30pm Standing\nFor more than three decades\, Adrian Sherwoo
 d has been consistently breaking new ground and his name is celebrated by 
 anyone with any interest in dub\, reggae\, post-punk\, industrial\, bass m
 usic and experimentalism.\nAs the founder of the cult and fiercely indepen
 dent On-U Sound label he has brought the attention of artists like Tackhea
 d\, New Age Steppers\, Gary Clail\, African Headcharge\, Dub Syndicate and
  Creation Rebel to international attention.\nUnsurprisingly a musician’s
  musician\, Adrian’s production credits include everyone from The Slits 
 to Nine Inch Nails\, Depeche Mode to The Fall\, Blur to Einsturzende Neuba
 uten\, Primal Scream and many\, many more.\n\nFacebook event link: www.fac
 ebook.com\n&nbsp\;
ATTACH;FMTTYPE=image/jpeg:https://www.lewesconclub.com/wp-content/uploads/
 2023/07/ASherwood2024.jpg
END:VEVENT
BEGIN:VTIMEZONE
TZID:Europe/London
X-LIC-LOCATION:Europe/London
BEGIN:DAYLIGHT
DTSTART:20240331T020000
TZOFFSETFROM:+0000
TZOFFSETTO:+0100
TZNAME:BST
END:DAYLIGHT
END:VTIMEZONE
END:VCALENDAR