BEGIN:VCALENDAR
VERSION:2.0
PRODID:-//wp-events-plugin.com//7.2.3.1//EN
TZID:Europe/London
X-WR-TIMEZONE:Europe/London
BEGIN:VEVENT
UID:290@lewesconclub.com
DTSTART;TZID=Europe/London:20231005T193000
DTEND;TZID=Europe/London:20231005T223000
DTSTAMP:20231005T143624Z
URL:https://www.lewesconclub.com/events/andy-irvine/
SUMMARY:Andy Irvine (Sold Out)
DESCRIPTION:Love Thy Neighbour presents: Andy Irvine in an intimate seated 
 show.\n\nSOLD OUT join waitlist: www.seetickets.com.\n\nBar from 5:00pm. D
 oors 7:30pm - 10:30pm. Seated\n\nAndy Irvine is one of the great Irish sin
 gers\, his voice one of a handful of truly great ones that gets to the ver
 y soul of Ireland. He has been hailed as “a tradition in himself.” Mus
 ician\, singer and songwriter\, Andy has maintained his highly individual 
 performing skills throughout his over 50-year career. From Sweeney’s Men
  in the mid 60s\, to the enormous success of Planxty in the 70s\, his duo 
 with Paul Brady in the later 70s and then from Patrick Street to Mozaik\, 
 LAPD and Usher’s Island\, Andy has been a world music pioneer and an ico
 n for traditional music and musicians.\n\nAs a soloist\, Andy fills the ro
 le of the archetypal troubadour with a show and a travelling lifestyle tha
 t reflect his lifelong influence\, Woody Guthrie. To quote The Irish Times
 \, “Often copied\, never equalled”\, his repertoire consists of Irish 
 traditional songs\, dexterous Balkan dances and a compelling canon of his 
 own self-penned songs.\n\nAlthough an integral part of the finest Irish ba
 nds of our time\, Andy Irvine continues along the path he set for himself 
 so long ago – a vibrant career as a solo artist in the old style\, a tel
 ler of tales and maker of music. www.andyirvine.com\n\n[embedyt] https://w
 ww.youtube.com/watch?v=xRg6X1sHBt4[/embedyt]
ATTACH;FMTTYPE=image/jpeg:https://www.lewesconclub.com/wp-content/uploads/
 2023/05/Andy2023.jpg
END:VEVENT
BEGIN:VTIMEZONE
TZID:Europe/London
X-LIC-LOCATION:Europe/London
BEGIN:DAYLIGHT
DTSTART:20230326T020000
TZOFFSETFROM:+0000
TZOFFSETTO:+0100
TZNAME:BST
END:DAYLIGHT
END:VTIMEZONE
END:VCALENDAR