BEGIN:VCALENDAR
VERSION:2.0
PRODID:-//wp-events-plugin.com//7.2.3.1//EN
TZID:Europe/London
X-WR-TIMEZONE:Europe/London
BEGIN:VEVENT
UID:336@lewesconclub.com
DTSTART;TZID=Europe/London:20230916T143000
DTEND;TZID=Europe/London:20230917T173000
DTSTAMP:20230911T131941Z
URL:https://www.lewesconclub.com/events/artwave-2023-art-ale/
SUMMARY:Artwave 2023 – Art & Ale
DESCRIPTION:Art and Ale with sculptures in the garden by Tezel Bahcelli and
  paintings in the bar by Lucinda Wait and Gabrielle Lord.\n\nSat 16th\, Su
 n 17th.\n\nCool down after your wonderings with a drink in our spacious ba
 r or garden\n\nThe Paddock Studios are accessible from the garden\, and we
  are accessible from Paddock Studios.\n\nMore Artwave details here: https:
 //www.artwavefestival.org/lewes-trail
ATTACH;FMTTYPE=image/jpeg:https://www.lewesconclub.com/wp-content/uploads/
 2023/09/Artwave2023.jpg
END:VEVENT
BEGIN:VTIMEZONE
TZID:Europe/London
X-LIC-LOCATION:Europe/London
BEGIN:DAYLIGHT
DTSTART:20230326T020000
TZOFFSETFROM:+0000
TZOFFSETTO:+0100
TZNAME:BST
END:DAYLIGHT
END:VTIMEZONE
END:VCALENDAR