BEGIN:VCALENDAR
VERSION:2.0
PRODID:-//wp-events-plugin.com//7.2.3.1//EN
TZID:Europe/London
X-WR-TIMEZONE:Europe/London
BEGIN:VEVENT
UID:370@lewesconclub.com
DTSTART;TZID=Europe/London:20231225T120000
DTEND;TZID=Europe/London:20231225T140000
DTSTAMP:20231212T112839Z
URL:https://www.lewesconclub.com/events/bar-open-1200-to-1400/
SUMMARY:Bar Open 12:00 to 14:00
DESCRIPTION:The Club bar will be open on Christmas Day from 12 to 2pm
ATTACH;FMTTYPE=image/jpeg:https://www.lewesconclub.com/wp-content/uploads/
 2023/11/XmasDraw2023.jpg
END:VEVENT
BEGIN:VTIMEZONE
TZID:Europe/London
X-LIC-LOCATION:Europe/London
BEGIN:STANDARD
DTSTART:20231029T010000
TZOFFSETFROM:+0100
TZOFFSETTO:+0000
TZNAME:GMT
END:STANDARD
END:VTIMEZONE
END:VCALENDAR