BEGIN:VCALENDAR
VERSION:2.0
PRODID:-//wp-events-plugin.com//7.2.3.1//EN
TZID:Europe/London
X-WR-TIMEZONE:Europe/London
BEGIN:VEVENT
UID:391@lewesconclub.com
DTSTART;TZID=Europe/London:20240713T193000
DTEND;TZID=Europe/London:20240713T233000
DTSTAMP:20240124T114952Z
URL:https://www.lewesconclub.com/events/boogie-wonderland-the-ultimate-dis
 co-party/
SUMMARY:Boogie Wonderland: The Ultimate Disco Party!
DESCRIPTION:Jukebox 1264 presents… Boogie Wonderland: The Ultimate Disco 
 Party!\n\nTickets availble from 26/01 9:00pm   www.ticketsource.co.uk\n\n
 Bar from 5:00pm. Doors Open at 7:30pm. Starts at 8:00pm. Standing.\n\nJoin
  Jukebox 1264 for a summer party you won’t forget! Let’s Groove\, Frea
 k Out\, and Celebrate Good Times in this one-of-a-kind showcase that will 
 keep you dancing all night long!\n\nThis non-stop disco party\, brought to
  life by a live band with added brass section\, will feature all the track
 s you want to hear by artists such as Chic\, Earth Wind &amp\; Fire\, Dian
 a Ross\, Bee Gees\, Boney M and Sister Sledge.\n\nDisco fancy dress VERY m
 uch encouraged!\n\nJukebox 1264 are a pop ensemble formed by the Lewes Mus
 ic Group in 2021. Their themed concerts pay tribute to eras\, albums\, and
  artists throughout the last 60 years in popular music. Their debut concer
 t in October 2021 was a sell-out tribute to Carole King’s Tapestry follo
 wed by tributes to Billy Joel\, The Beatles and Fleetwood Mac. For more in
 formation visit www.lewesmusicgroup.com.\n\n***Please note that Jukebox 12
 64 is not a ‘tribute’ band. While many of our shows are centred around
  one artist and we attempt to recreate their music as authentically and ta
 stefully as possible\, we reserve the right to make it unique to us while 
 providing high quality performances***
ATTACH;FMTTYPE=image/jpeg:https://www.lewesconclub.com/wp-content/uploads/
 2024/01/BWFB2024.jpg
END:VEVENT
BEGIN:VTIMEZONE
TZID:Europe/London
X-LIC-LOCATION:Europe/London
BEGIN:DAYLIGHT
DTSTART:20240331T020000
TZOFFSETFROM:+0000
TZOFFSETTO:+0100
TZNAME:BST
END:DAYLIGHT
END:VTIMEZONE
END:VCALENDAR