BEGIN:VCALENDAR
VERSION:2.0
PRODID:-//wp-events-plugin.com//7.2.3.1//EN
TZID:Europe/London
X-WR-TIMEZONE:Europe/London
BEGIN:VEVENT
UID:375@lewesconclub.com
DTSTART;TZID=Europe/London:20240704T193000
DTEND;TZID=Europe/London:20240704T230000
DTSTAMP:20231228T150129Z
URL:https://www.lewesconclub.com/events/chaos-8-hi-fi-spitfires/
SUMMARY:Chaos 8 + Hi-Fi Spitfires
DESCRIPTION:Death Or Glory Promotions Present - Chaos 8 + Hi-Fi Spitfires\n
 \n\nTickets £10+b/f:  www.eventbrite.co.uk\n\n\nBar from 5:00pm. Doors 7
 :30 - 11:00pm. Standing\n\nChaos 8 www.facebook.com\n\nHi-Fi Spitfires www
 .facebook.com\n\n[embedyt] https://www.youtube.com/watch?v=6lyUQ7Iy3LM[/em
 bedyt]\n\n[embedyt] https://www.youtube.com/watch?v=lqXvpq0uMd8[/embedyt]\
 n\n&nbsp\;\n\n&nbsp\;
ATTACH;FMTTYPE=image/jpeg:https://www.lewesconclub.com/wp-content/uploads/
 2023/12/Chaos8.jpg
END:VEVENT
BEGIN:VTIMEZONE
TZID:Europe/London
X-LIC-LOCATION:Europe/London
BEGIN:DAYLIGHT
DTSTART:20240331T020000
TZOFFSETFROM:+0000
TZOFFSETTO:+0100
TZNAME:BST
END:DAYLIGHT
END:VTIMEZONE
END:VCALENDAR