BEGIN:VCALENDAR
VERSION:2.0
PRODID:-//wp-events-plugin.com//7.2.3.1//EN
TZID:Europe/London
X-WR-TIMEZONE:Europe/London
BEGIN:VEVENT
UID:629@lewesconclub.com
DTSTART;TZID=Europe/London:20260424T190000
DTEND;TZID=Europe/London:20260424T230000
DTSTAMP:20260105T110108Z
URL:https://www.lewesconclub.com/events/class-of-79-2/
SUMMARY:Class of ’79
DESCRIPTION:Black Rabbit Productions &amp\; Pogo Events Presents Class of 
 ’79 with support from The Del Strangefish Inexperience\n\nTickets:  www
 .seetickets.com/event/class-of-79-a-punk-rock-jukebox-support/lewes-con-cl
 ub/3419039\n\nBar from 5:00pm. Doors 7:00pm. Starts 8:00pm.\n\nClass of 
 ’79 is a Punk / New wave super band who’s musical pedigree is undeniab
 le. A Punk Rock Jukebox!\n\nConsisting of Steve Crittall / guitar: Steve h
 as had a long and successful career with an impressive list of bands he ha
 s been in including The Godfathers (6yrs) The Selecter (3 yrs) UK Subs (48
  date U.S tour) Ten Benson (4yrs) Black Bombers (5 yrs)\n\nPhil Thompson/ 
 guitar / vocals: Phil is best known for his dynamic and flamboyant perform
 ances as guitarist with The Rezillos\, he has also recently been seen onst
 age as guitarist for Vapors.\n\nSimon Bowley / drums: Simon has been the d
 riving force for punk pioneers Eddie &amp\; the Hot Rods for 28 years play
 ing shows all over the world.\n\nMike Lea / bass : Mike spent many years w
 ith Manchester band Sugar Bullets who had a great underground following \,
  he later joined post punk / new wave band Department S.\nStrap yourself i
 n for a nostalgic night of Punk and New Wave classics performed by four gu
 ys who have been there and got the T-shirt.\n\nSupport from The Del Strang
 efish Inexperience         
ATTACH;FMTTYPE=image/jpeg:https://www.lewesconclub.com/wp-content/uploads/
 2026/01/Class79.jpg
END:VEVENT
BEGIN:VTIMEZONE
TZID:Europe/London
X-LIC-LOCATION:Europe/London
BEGIN:DAYLIGHT
DTSTART:20260329T020000
TZOFFSETFROM:+0000
TZOFFSETTO:+0100
TZNAME:BST
END:DAYLIGHT
END:VTIMEZONE
END:VCALENDAR