BEGIN:VCALENDAR
VERSION:2.0
PRODID:-//wp-events-plugin.com//7.2.3.1//EN
TZID:Europe/London
X-WR-TIMEZONE:Europe/London
BEGIN:VEVENT
UID:380@lewesconclub.com
DTSTART;TZID=Europe/London;VALUE=DATE:20240102
DTEND;TZID=Europe/London;VALUE=DATE:20240103
DTSTAMP:20231231T100251Z
URL:https://www.lewesconclub.com/events/club-closed-2/
SUMMARY:Club Closed
DESCRIPTION:
END:VEVENT
BEGIN:VTIMEZONE
TZID:Europe/London
X-LIC-LOCATION:Europe/London
BEGIN:STANDARD
DTSTART:20231029T010000
TZOFFSETFROM:+0100
TZOFFSETTO:+0000
TZNAME:GMT
END:STANDARD
END:VTIMEZONE
END:VCALENDAR