BEGIN:VCALENDAR
VERSION:2.0
PRODID:-//wp-events-plugin.com//7.2.3.1//EN
TZID:Europe/London
X-WR-TIMEZONE:Europe/London
BEGIN:VEVENT
UID:469@lewesconclub.com
DTSTART;TZID=Europe/London:20241212T193000
DTEND;TZID=Europe/London:20241212T223000
DTSTAMP:20241209T202239Z
URL:https://www.lewesconclub.com/events/comedy-at-the-con-10/
SUMMARY:Christmas Comedy Gala - Ninia Benjamin
DESCRIPTION:Comedy at the Con Presents: Christmas Comedy Gala - Ninia Benja
 min and friendsSusan Murray mc. SARAH GAUL. TONY O HARA and act TBC\n\nBar
  from 5:00pm. Door time: 7:30pm. Start time: 8:00pm\n\nTickets  wegottick
 ets.com/comedyatthecon\n\nwww.facebook.com/comedyatthecon\nNinia Benjamin\
 nWe are so excited: One of the most sought after comedians on the Uk makes
  her hilarious debut at the Comedy at the Con at the Lewes Con Club. Not t
 o be missed.\nBursting onto the stage in an explosion of energy\, bombasti
 c Benjamin certainly makes an attention-grabbing entrance.\nStar of BBC2's
  "Three Non-Blondes" Described by the Voice Newspaper as the Comedy Assass
 in\, Ninia Benjamin is certainly not shy in her approach to comedy. Althou
 gh she doesn't carry a gun\, Ninia's wit and cheeky persona is sure to kil
 l any daring heckler's attempts stone dead. Armed with a big smile\, Ninia
 's warmth on stage\, and off\, lets her get away with murder.**** Times\n\
 nSarah Gaul\nSarah has appeared on Netflix\, ABC TV and ABC radio in Austr
 alia .\nThe great Susan Murray (MC)\n“Feisty fire-headed pocket rocket 
 “Broadway Baby\n“Cynicism that could fell a rhino at 1000 paces. Like 
 it.”\nAl Murray\n“A feisty comedy fireball of fun”\nTime Out\n\nTony
  O’Hara &amp\; James Milham\nTony\, Finalist of Bath Comedy Festival New
  Act Competition 2024\, Irish comedian Tony O’Hara takes a witty\, self-
 deprecating look at adjusting to life in the South of England\, being midd
 le aged and the ongoing struggles of having an apostrophe in his name.\nJa
 mes Milham is a young comic from the London circuit performing at some hot
 test clubs in the capital and around the country. An act packed with jokes
 \, James reached the semi-finals of this year So You Think You're Funny in
  Edinburgh and beat the notorious King Gong at The Comedy Store.\n\n\n\nAs
  a Christmas present to our loyal comedy club supporters \, we are giving 
 exclusive 48 hr pre-sale period to buy tickets to see Kerry Godliman in Ja
 nuary 2025.\n\nNB: In order to receive a pre-sale link you need to attend 
 this Christmas show\, where you will receive a secret link to Kerry Godlim
 an tickets.\n
ATTACH;FMTTYPE=image/jpeg:https://www.lewesconclub.com/wp-content/uploads/
 2021/05/ComedyGeneric.jpg
END:VEVENT
BEGIN:VTIMEZONE
TZID:Europe/London
X-LIC-LOCATION:Europe/London
BEGIN:STANDARD
DTSTART:20241027T010000
TZOFFSETFROM:+0100
TZOFFSETTO:+0000
TZNAME:GMT
END:STANDARD
END:VTIMEZONE
END:VCALENDAR