BEGIN:VCALENDAR
VERSION:2.0
PRODID:-//wp-events-plugin.com//7.2.3.1//EN
TZID:Europe/London
X-WR-TIMEZONE:Europe/London
BEGIN:VEVENT
UID:515@lewesconclub.com
DTSTART;TZID=Europe/London:20250206T193000
DTEND;TZID=Europe/London:20250206T230000
DTSTAMP:20250129T220235Z
URL:https://www.lewesconclub.com/events/comedy-at-the-con-12/
SUMMARY:Comedy at the Con - Marcus Birdman
DESCRIPTION:Comedy at the Con Presents Winter Comedy Gala\n\n\nIt's our ann
 ual winter comedy Gala:\n\n\nTickets\, when available here…  wegotticke
 ts.com/comedyatthecon\n\nWe are so excited to welcome Marcus Birdman to ou
 r next show on 6th February 2025. Marcus has always been a great comedian 
 : He has always been in high demand. Five stars Edinburgh fringe. After be
 coming a finalist on Britain’s  Got Talent ( audition below) Marcus has
  toured Nationally \, Internationally and has many TV credits.\n\nMarcus w
 ill be joined by  David Tsonos \,top Canadian comedian. ‘Talking about 
 you cat for an hour and making it funny is quite impressive’\n\n( Edinbu
 rgh fringe review. **** Chortle)\n\nAward winning support from Felex Larki
 n  &amp\; Kathryn Mather\n\n***** The ultra- Cynical Kathryn Mather used 
 to be a children’s entertainer\, and now seems to relish the chance to e
 xplore darker thoughts her old job would never allow. Hilarious and not to
  be missed.\n\nBar from 5:00pm. Door time: 7:30pm. Start time: 8:00pm.  1
 8+. Unreserved seating.\n\nwww.facebook.com/comedyatthecon\n\n[embedyt] ht
 tps://www.youtube.com/watch?v=RirB3Z1K58s[/embedyt]\n\n&nbsp\;
ATTACH;FMTTYPE=image/jpeg:https://www.lewesconclub.com/wp-content/uploads/
 2021/05/ComedyGeneric.jpg
END:VEVENT
BEGIN:VTIMEZONE
TZID:Europe/London
X-LIC-LOCATION:Europe/London
BEGIN:STANDARD
DTSTART:20241027T010000
TZOFFSETFROM:+0100
TZOFFSETTO:+0000
TZNAME:GMT
END:STANDARD
END:VTIMEZONE
END:VCALENDAR