BEGIN:VCALENDAR
VERSION:2.0
PRODID:-//wp-events-plugin.com//7.2.3.1//EN
TZID:Europe/London
X-WR-TIMEZONE:Europe/London
BEGIN:VEVENT
UID:266@lewesconclub.com
DTSTART;TZID=Europe/London:20230511T193000
DTEND;TZID=Europe/London:20230511T230000
DTSTAMP:20230511T063213Z
URL:https://www.lewesconclub.com/events/comedy-at-the-con-4/
SUMMARY:Comedy at the Con - Roger Monkhouse
DESCRIPTION:May is finally here. Spring has almost sprung so we all deserve
  a night of big belly laughs. Comedy at the Con accepts the challenge and 
 has pulled out all the stops to make sure the May show is fantastic and ev
 ery act is ace.\n\nStephen  Carlin A Scottish-born stand-up comedian and
  writer. He was named by Stewart Lee as one of the 'Ten Best Comedians In
  The World Ever.\n\nRomina Puma One of the most exciting new comedians wo
 rking today - critics say ' one to watch.'\n\n Liam Tulley Hilarious sta
 nd-up and actor. Renowned for the Children's animated TV series Wibbly Pig
 \n\nand...  Roger Monkhouse Makes a welcome return to Comedy At the Con.
 \n\nStand-up Comedian\, Actor\, Presenter\, Writer and Voiceover Artiste A
  consummate stand-up who employs a deadly combination of charm and menace 
 to exert a masterful control over any audience. A highly original and quir
 ky performer\, Roger Monkhouse`s trademark stage-prowling style and curiou
 s\, inimitable manner have established him as one of the hottest names on 
 the comedy circuit. Supremely confident\, with audience banter down to an 
 art form\, Roger is happy to improvise freely but has no shortage of first
  class material in his armoury. A master of observational comedy with a ro
 utine that is universally and unfailingly hysterical. A sought after compe
 re and headliner across the UK and internationally.\n\nMC:  John Meaghe\
 n\nBar from 5:00pm. Doors 7:30pm. Show 8:00pm. 18+. Fully seated (unreserv
 ed).\n\nTickets: www.wegottickets.com/event/579424\n\nTo clarify\, for thi
 s event\, ' tickets not currently available' does not mean they are sold o
 ut and the organiser ( Comedy at the Con) may release more in the price ba
 nd at a later date.- if tickets are sold out it will say so on wegotticket
 s.\n\nNb: If you have any covid symptoms please don't come to the show - C
 ontact wegottickets who have 'Comedy at the Con'  refund policy.\nPlease 
 note all acts subject to change without notice.\nNO DOGS ALLOWED\n\nOrgani
 sers FB page www.facebook.com/comedyatthecon
ATTACH;FMTTYPE=image/jpeg:https://www.lewesconclub.com/wp-content/uploads/
 2021/05/ComedyGeneric.jpg
END:VEVENT
BEGIN:VTIMEZONE
TZID:Europe/London
X-LIC-LOCATION:Europe/London
BEGIN:DAYLIGHT
DTSTART:20230326T020000
TZOFFSETFROM:+0000
TZOFFSETTO:+0100
TZNAME:BST
END:DAYLIGHT
END:VTIMEZONE
END:VCALENDAR