BEGIN:VCALENDAR
VERSION:2.0
PRODID:-//wp-events-plugin.com//7.2.3.1//EN
TZID:Europe/London
X-WR-TIMEZONE:Europe/London
BEGIN:VEVENT
UID:306@lewesconclub.com
DTSTART;TZID=Europe/London:20230713T193000
DTEND;TZID=Europe/London:20230713T223000
DTSTAMP:20230626T103255Z
URL:https://www.lewesconclub.com/events/comedy-at-the-con-reginald-d-hunte
 r/
SUMMARY:Comedy at the Con - Reginald D. Hunter
DESCRIPTION:Comedy at the Con Present: Reginal D. Hunter\n\nTickets: www.we
 gottickets.com/comedyatthecon\n\nBar from 5:00pm. Doors 7:30pm. Start 8:00
 pm. Fully seated. 18+\nWe are thrilled to welcome back Reginald D. Hunter 
 to Comedy at the Con. The first performance of Reg's brand new ( Work-in- 
 Progress) show will be here in Lewes before Reg goes to Edinburgh and a Na
 tional Tour\,\nso Lewes you are in for a treat.\nHis TV appearances have i
 ncluded Never Mind The Buzzcocks\, QI and Have I Got News For You? He also
  filmed two series of the BBC2’s hugely popular Reginald D Hunter’s So
 ngs Of The South &amp\; Reginald D Hunter’s Songs of The Border\, docume
 nting Reginald’s epic road trip through 150 years of American popular so
 ng.\n"A cerebral comedian with every performative grace in his back pocket
 "\nVoice Magazine\n★★★★★\n"Hunter is a gifted story teller... he
  has the audience in the palm of his hand with his surprisingly gentle ton
 e and clever turn of phrase."\nEdinburgh Festivals Magazine\n★★★★\
 nReg will share the bill with another fantastic comedian who will be annou
 nced very soon.\n\nComedy at the Con advise for their events: If the ticke
 t page says ' Tickets not currently available' this does not mean the show
  is sold-out - it simply means the allocation is being refreshed and more 
 tickets may be released shortly\, so please keep checking back.\n\nPlease 
 contact the organiser directly regarding queries comedyatthecon@gmail.com\
 n&nbsp\;\n\n&nbsp\;
ATTACH;FMTTYPE=image/jpeg:https://www.lewesconclub.com/wp-content/uploads/
 2021/05/ComedyGeneric.jpg
END:VEVENT
BEGIN:VTIMEZONE
TZID:Europe/London
X-LIC-LOCATION:Europe/London
BEGIN:DAYLIGHT
DTSTART:20230326T020000
TZOFFSETFROM:+0000
TZOFFSETTO:+0100
TZNAME:BST
END:DAYLIGHT
END:VTIMEZONE
END:VCALENDAR