BEGIN:VCALENDAR
VERSION:2.0
PRODID:-//wp-events-plugin.com//7.2.3.1//EN
TZID:Europe/London
X-WR-TIMEZONE:Europe/London
BEGIN:VEVENT
UID:355@lewesconclub.com
DTSTART;TZID=Europe/London:20231109T193000
DTEND;TZID=Europe/London:20231109T230000
DTSTAMP:20231023T142810Z
URL:https://www.lewesconclub.com/events/comedy-at-the-con-ria-lina-bobby-m
 air/
SUMMARY:Comedy At The Con - Ria Lina & Bobby Mair
DESCRIPTION:Comedy at the Con present: Bonfire Special with Ria Lina\, Bobb
 y Mair\, Will Hannigan\, Olly Fox and more.\n\nThe best way to recover fro
 m Bonfire night is with laughter : And to help with your recovery we have 
 two amazing headline acts plus hilarious support from Will Hannigan\, Olly
  Fox and more.\n\nTickets £16.25 inc booking fee (Club members £14.25) :
  www.wegottickets.com/comedyatthecon\n\nPlease contact the organiser and n
 ot the Club for any ticket enquiries comedyatthecon@gmail.com\n\nBar from 
 5:00pm. Doors 7:30pm. Start 8:00pm. Fully seated. 18+\nRia Lina is a touri
 ng Filipina comedian\, actress and writer known for her appearances on BBC
 ’s Live At The Apollo\, Have I Got News For You\, The Now Show and Mock 
 The Week - and in November was named as one of The Evening Standard’s 
 ‘Hottest Comedians You Should Be Watching Now’. Throughout her stand-u
 p career Ria has taken five shows to the Edinburgh Fringe Festival with he
 r work tackling topics such as autism\, topical news and racial identity. 
 Her career stretches from stage and screen\, to radio and the occasional u
 kulele - all in a unique style described by ‘The Scotsman’ as ‘fearl
 ess \, provocative and very funny’.\nThere is eggy stuff here\, delivere
 d with such charm... I guarantee you will laugh a lot. **** Scotsman\n\nBo
 bby Mair But no matter what he says\, like all great comics it’s the del
 ivery that makes it worth listening to. Bobby Mair is rare in his ability 
 to keep the audience completely captivated and fascinated\, waiting for hi
 s next line with expectation. He's a real comic talent. **** Chortle\nLond
 on-based Canadian Bobby Mair looks like the kind of person you would not w
 ant to sit next to on the bus. He is scruffy and awkward and you wonder wh
 at he might say or do next. Yet what could be a problem on public transpor
 t is an asset in stand-up. Mair is one of comedy's most distinctive voices
 . **** Evening Standard **** Scotsman\nAs seen on Feel Good (Netflix)\, St
 and Up Sketch Show (ITV2)\, Roast Battle (Comedy Central)\, Guessable (Com
 edy Central)\, 8 Out of 10 Cats (Channel 4)\, Celebrity Antiques Road Trip
  (BBC Two) and lots more.\n\nLink to Facebook event: www.facebook.com/even
 ts/3514496692198542
ATTACH;FMTTYPE=image/jpeg:https://www.lewesconclub.com/wp-content/uploads/
 2021/05/ComedyGeneric.jpg
END:VEVENT
BEGIN:VTIMEZONE
TZID:Europe/London
X-LIC-LOCATION:Europe/London
BEGIN:STANDARD
DTSTART:20231029T010000
TZOFFSETFROM:+0100
TZOFFSETTO:+0000
TZNAME:GMT
END:STANDARD
END:VTIMEZONE
END:VCALENDAR