BEGIN:VCALENDAR
VERSION:2.0
PRODID:-//wp-events-plugin.com//7.2.3.1//EN
TZID:Europe/London
X-WR-TIMEZONE:Europe/London
BEGIN:VEVENT
UID:383@lewesconclub.com
DTSTART;TZID=Europe/London:20240201T193000
DTEND;TZID=Europe/London:20240201T230000
DTSTAMP:20240123T172809Z
URL:https://www.lewesconclub.com/events/comedy-night-robin-ince-and-friend
 s/
SUMMARY:Comedy Night : Robin Ince\, Zoe Lyons and friends
DESCRIPTION:Comedy at the Con present: Robin Ince\, We are excited to annou
 nce the great Zoe Lyons will be Robin's co-headline act.\n\nTickets: WeGot
 Tickets\n\nBar from 5pm. Door time: 7.30pm. Start time: 8pm\n\nRobin Ince 
 the Star of Radio 4's Infinite Monkey Cage and Radio 4's Reality tunnel ma
 kes his long awaited debut at Comedy at the Con's February show.\n\nInfini
 te Cage review Guardian 5 stars: I do like this programme\, though the spe
 ed of it can sometimes be bewildering. Mostly this is down to host Robin I
 nce\, a lovely man determined to zoom through life without wasting a minut
 e\, absorbing as much about it as he can on the way. He always sounds on t
 he verge of crossness\, Ince\, as does David Mitchell: their impatience is
  what makes them funny.*****\n\nThe unfeigned enthusiasm behind Robin Ince
  – Weapons of Empathy at the Gilded Balloon at the Museum results in an 
 infectiously crammed hour of constant stimulation and considerable hilarit
 y. **** Uplifting (Ed fringe review)\n\nRobin had many four and five star 
 reviews at last year's Edinburgh for his show Melons. **** A delightful ho
 ur fest\n\nThe full guest line-up will be announced soon.\n\nHighly recomm
 ended.\n\nNot to be missed.\n\n&nbsp\;\n\n&nbsp\;
ATTACH;FMTTYPE=image/jpeg:https://www.lewesconclub.com/wp-content/uploads/
 2021/05/ComedyGeneric.jpg
END:VEVENT
BEGIN:VTIMEZONE
TZID:Europe/London
X-LIC-LOCATION:Europe/London
BEGIN:STANDARD
DTSTART:20231029T010000
TZOFFSETFROM:+0100
TZOFFSETTO:+0000
TZNAME:GMT
END:STANDARD
END:VTIMEZONE
END:VCALENDAR