BEGIN:VCALENDAR
VERSION:2.0
PRODID:-//wp-events-plugin.com//7.2.3.1//EN
TZID:Europe/London
X-WR-TIMEZONE:Europe/London
BEGIN:VEVENT
UID:287@lewesconclub.com
DTSTART;TZID=Europe/London:20231202T200000
DTEND;TZID=Europe/London:20231202T233000
DTSTAMP:20230627T135525Z
URL:https://www.lewesconclub.com/events/don-letts-dj-set/
SUMMARY:Don Letts (DJ Set)
DESCRIPTION:This show has been postponed from August 19th\, original ticket
 s still valid\n\nLove Thy Neighbour Present: Don Letts DJ set\n\nGet ticke
 ts with only a £1 booking fee from https://lovethyneighbourmusic.co.uk\n\
 nBar from 5:00pm. Doors 8:00 to 11:30pm. Standing\n\n14+ only\, under 18s 
 to be accompanied by an adult.\n\nFrom working with the likes of The Clash
  and Bob Marley to colliding genres with Big Audio Dynamite\, still presen
 ting hisown radio show on BBC 6Music\, winning a Grammy and receiving an h
 onorary doctorate for his contribution to cultureDon Letts appears to have
  done it all. Indeed along with the release of his best selling autobiogra
 phy ‘There and BlackAgain’ last year and ‘Rebel Dread’ a film docu
 menting his life released this year you’d be forgiven for thinking he ha
 d. Butthere’s one thing the 66-year old polymath hasn’t done… until 
 now….  His debut track as a solo artist and the first taste of his debu
 t album\, titled ‘OuttaSync’\, which was produced by Gaudi and release
 d on April 28th\, 2023.\n\nDon continues to D.J nationally and internation
 ally playing strictly old and new school dub reggae. His set is in the spi
 rit of his time as DJ at London’s legendary Roxy club back in ’77. Fro
 m the days of Punk Rock to present day Don has always been drawn towards m
 usical projects. After d.j’ing at the Roxy and whilst directing videos f
 or many other acts he created the band Basement Five\, released a single w
 ith members of John Lydon’s P.I.L\, managed the Slits and collaborated w
 ith members of Trouble Funk. He recently recorded a reggae version of the 
 London Calling!\n\nIn the mid 80’s he formed the group ‘Big Audio Dyna
 mite’ with Mick Jones (ex-Clash). He went on to perform and co-write fou
 r albums with B.A.D achieving several hits on both sides of the Atlantic i
 ncluding the top ten hit E=Mc2. The band recently reformed for a world tou
 r to sell out shows and critical acclaim.\n\nhttps://www.donletts.com\n\n[
 embedyt] https://www.youtube.com/watch?v=q7Zf0KWPJoE[/embedyt]\n\nhttps://
 youtu.be/621_mg7ffHk
ATTACH;FMTTYPE=image/jpeg:https://www.lewesconclub.com/wp-content/uploads/
 2023/05/DonLetts2023.jpg
END:VEVENT
BEGIN:VTIMEZONE
TZID:Europe/London
X-LIC-LOCATION:Europe/London
BEGIN:STANDARD
DTSTART:20231029T010000
TZOFFSETFROM:+0100
TZOFFSETTO:+0000
TZNAME:GMT
END:STANDARD
END:VTIMEZONE
END:VCALENDAR