BEGIN:VCALENDAR
VERSION:2.0
PRODID:-//wp-events-plugin.com//7.2.3.1//EN
TZID:Europe/London
X-WR-TIMEZONE:Europe/London
BEGIN:VEVENT
UID:351@lewesconclub.com
DTSTART;TZID=Europe/London:20231214T200000
DTEND;TZID=Europe/London:20231214T230000
DTSTAMP:20231206T164757Z
URL:https://www.lewesconclub.com/events/ella-clayton-harry-nye/
SUMMARY:Hilltop Sessions - Ella Clayton & Harry Nye
DESCRIPTION:Hilltop Sessions Presents: Ella Clayton &amp\; Harry Nye\n\n\nF
 or the last Session of the year we're really happy to be bringing some ama
 zing young musicians to Lewes. Ella Clayton's wonderful storytelling and g
 orgeous voice is just stunning while Harry Nye's emotional songs and warm 
 delivery alone is worth the trip.\n\nBar from 5:00pm. Doors 8:00pm to 11:0
 0pm.\n\nTickets and more info: www.hilltopsessions.co.uk\n\nElla Clayton\n
 \nHailing from London\, Ella Clayton is a songwriter and musician\, who’
 s storytelling ability and breathtaking voice cast powerful spells over ea
 ch audience she encounters.\n\nAfter living in Brighton and Berlin\, honin
 g her craft as a street musician\, Ella returned to her hometown of London
  where she met producer\, Lester Duval. The pair went on to record Ella's 
 debut album\, “Murmurations”\, at the Bunker Studio\, with help from f
 riends Fabio De Oliveira on drums and Alex Crawford on guitar. This body o
 f work manages to be somehow both spectacular and relatable\, drawing you 
 further into her world with every word. Ella is making waves on the live m
 usic scene\, with sold-out\, full band headline shows at the Waiting Room 
 (Sept 22)\, the Folklore\n\nFacebook event link: www.facebook.com/events/2
 95346980090326\n\n[embedyt] https://www.youtube.com/watch?v=R_AojYXmNw4[/e
 mbedyt]
ATTACH;FMTTYPE=image/jpeg:https://www.lewesconclub.com/wp-content/uploads/
 2023/10/EllaClayton2023.jpg
END:VEVENT
BEGIN:VTIMEZONE
TZID:Europe/London
X-LIC-LOCATION:Europe/London
BEGIN:STANDARD
DTSTART:20231029T010000
TZOFFSETFROM:+0100
TZOFFSETTO:+0000
TZNAME:GMT
END:STANDARD
END:VTIMEZONE
END:VCALENDAR