BEGIN:VCALENDAR
VERSION:2.0
PRODID:-//wp-events-plugin.com//7.2.3.1//EN
TZID:Europe/London
X-WR-TIMEZONE:Europe/London
BEGIN:VEVENT
UID:349@lewesconclub.com
DTSTART;TZID=Europe/London:20240131T190000
DTEND;TZID=Europe/London:20240131T223000
DTSTAMP:20240124T102300Z
URL:https://www.lewesconclub.com/events/good-lovelies/
SUMMARY:Good Lovelies (Sold Out)
DESCRIPTION:Lewes Ripple Present: Good Lovelies + Pam &amp\; de Femmes.\n\n
 Tickets SOLD OUT waitlist.  www.wegottickets.com/event/596646\n\nBar from
  5:00pm. Door time: 7:00pm\, Start time: 7:30pm. Seated 14+.\n\nAward-winn
 ing Canadian band the Good Lovelies from Ontario return to Lewes\, the pen
 ultimate date of their UK tour in 2024.\n\nThe rich complexity of life is 
 the emotional focus of the much-anticipated new album from one of Canada
 ’s most accomplished and harmonious trios – Good Lovelies.\n\nThe song
 s on We Will Never Be the Same\, crafted by the Juno Award-winning ensembl
 e of Kerri Ough\, Sue Passmore and Caroline Marie Brooks\, are as compelli
 ng as the engaging vocal harmonies for which the group has been known for 
 the last 17 years as they mine the complex feelings experienced by women w
 ho have come to ponder some of the big questions of life.\n\nThis new albu
 m is both a return to a more elemental\, acoustic-based musical platform r
 eaching back to the early days of the Good Lovelies\, as well as an immers
 ive emotional experience crafted by three seasoned songwriters who bring t
 heir own real-life stories in all their dynamism and messy complexity to t
 he fore.\n\nWe Will Never Be the Same is the group’s fifth full-length s
 tudio album adding to a widely acclaimed catalogue of recordings that also
  includes two beloved Christmas releases. It adds to their already popular
  concert repertoire as they return to tread the boards in venues throughou
 t North America\, the U.K.\, Europe\, Australia\, and beyond.\n\nIt is a t
 estament not only to their artistry\, but also their humanity\, and is an 
 album that will continue to endear this beloved group to fans of all ages.
 \n\nGOOD LOVELIES ARE:\n\nCaroline Brooks: Vocals\, Acoustic and Electric 
 Guitars\n\nKerri Ough: Vocals\, Acoustic Guitar\, Banjo\, Keyboard\n\nSusa
 n Passmore: Vocals\, Acoustic Guitar\, Bass\, Percussion\, Keyboard\n\nTOU
 RING BAND MEMBERS:\n\nSteve Zsirai: Bass\n\nMark Mariash: Drums\n\nRobbie 
 Grunwald: Keyboards\n\nChristine Bougie: Lap Steel\, Electric Guitar\n\nww
 w.goodlovelies.com\n\n[embedyt] https://www.youtube.com/watch?v=-bXis_e2Nj
 g[/embedyt]\n\n"  Lewes's own Pam &amp\; de Femmes\, with their brand o
 f multilingual exuberance\, will be playing support\n\npamanddefemmes
ATTACH;FMTTYPE=image/jpeg:https://www.lewesconclub.com/wp-content/uploads/
 2023/10/GLoverlies2024.jpeg
END:VEVENT
BEGIN:VTIMEZONE
TZID:Europe/London
X-LIC-LOCATION:Europe/London
BEGIN:STANDARD
DTSTART:20231029T010000
TZOFFSETFROM:+0100
TZOFFSETTO:+0000
TZNAME:GMT
END:STANDARD
END:VTIMEZONE
END:VCALENDAR