BEGIN:VCALENDAR
VERSION:2.0
PRODID:-//wp-events-plugin.com//7.2.3.1//EN
TZID:Europe/London
X-WR-TIMEZONE:Europe/London
BEGIN:VEVENT
UID:311@lewesconclub.com
DTSTART;TZID=Europe/London:20230921T200000
DTEND;TZID=Europe/London:20230921T230000
DTSTAMP:20230713T092624Z
URL:https://www.lewesconclub.com/events/hannah-scott-isabella-coulstock/
SUMMARY:Hannah Scott & Isabella Coulstock
DESCRIPTION:Hilltop Sessions Presents: Hannah Scott &amp\; Isabella Coulsto
 ck\n\nHannah Scott has built a loyal following thanks to her distinctive v
 oice\, powerful melodies and thought-provoking lyrics. She has been champi
 oned by Bob Harris and Tom Robinson and featured on TV series Grey’s Ana
 tomy. Supporting are Isabella Coulstock's dynamic pop tunes\, torch soul &
 amp\; ballads\n\n\n\nBar from 5:00pm. Doors 8:00pm to 11:00pm.\n\nTickets 
 and more info:  www.hilltopsessions.co.uk\n\n\n\nHannah Scott performs co
 ntemporary folk music and is building a loyal following thanks to her dist
 inctive voice\, powerful melodies and thought-provoking lyrics. She draws 
 much of the inspiration for her music from her affinity with Italy\; a yea
 r living and working on an olive press in Tuscany in her late teens provid
 ed the backdrop to her early work\, and the draw of the country and its in
 fluence have not faded with time.\nRecent highlights include being selecte
 d for English Folk Expo's highly competitive Artist Mentoring Programme an
 d opening for folk superstar Seth Lakeman and being awarded FATEA Magazine
 ’s Female Artist of the Year 2022.\nHer music has been heard in the hit 
 TV series\, Grey’s Anatomy and has been played regularly on the BBC with
  support from Dermot O’Leary and Bob Harris on Radio 2 and Tom Robinson 
 on 6 Music. She’s been featured by MOJO\, The Guardian and Clash Magazin
 e. Her arresting live performances have earned her support slots for artis
 ts including Madeleine Peyroux\, 10cc and Paddy Casey.\nFrom playing a liv
 e Under The Apple Tree session for Bob Harris at just 13 years old\, Isabe
 lla Coulstock has performed at iconic London venues such as The Bedford in
  Balham\, The Half Moon in Putney\, The Troubadour and most recently a sol
 d out headline show at the Green Note in Camden. In the summer of 2023 she
  supported none other than The Who. 2022 also saw her performing at the Aw
 ard winning Black Deer Festival in Kent and renowned Cornbury Festival in 
 Oxfordshire.\nIsabella regularly supports Jools Holland on his Summer and 
 Winter tours\, building a wealth of experience already at the age of just 
 21. She has been featured on BBC radio and Countryline radio stations and 
 has many songwriting collaborations and credits to her name including a ti
 tle track for an upcoming new TV show.\n2023 is looking to be a breakthrou
 gh year for Isabella with the release of an EP and she is working on her d
 ebut studio album\, along with planned tours around the UK.\n\nFacebook ev
 ent www.facebook.com
ATTACH;FMTTYPE=image/jpeg:https://www.lewesconclub.com/wp-content/uploads/
 2023/07/HannahScott.jpg
END:VEVENT
BEGIN:VTIMEZONE
TZID:Europe/London
X-LIC-LOCATION:Europe/London
BEGIN:DAYLIGHT
DTSTART:20230326T020000
TZOFFSETFROM:+0000
TZOFFSETTO:+0100
TZNAME:BST
END:DAYLIGHT
END:VTIMEZONE
END:VCALENDAR