BEGIN:VCALENDAR
VERSION:2.0
PRODID:-//wp-events-plugin.com//7.2.3.1//EN
TZID:Europe/London
X-WR-TIMEZONE:Europe/London
BEGIN:VEVENT
UID:381@lewesconclub.com
DTSTART;TZID=Europe/London:20240622T193000
DTEND;TZID=Europe/London:20240622T233000
DTSTAMP:20240106T170055Z
URL:https://www.lewesconclub.com/events/hekatones-roots-garden/
SUMMARY:Hekatones + Roots Garden
DESCRIPTION:Hekatones + Roots Garden\n\nTickets £7.50: www.tickettailor.co
 m\n\nBar from 5:00pm. Doors 7:30 to 11:30pm.\n\nHekatones is the new proje
 ct from bassist George Berrills (founder of dub group Resonators). Ska\, r
 ocksteady\, reggae\, and dub is merged with influences as expansive as Jaz
 z\, Ethio-funk\, Gamelan music\, Psychedelic Rock and much more. With Reso
 nators\, Berrills has shared stages internationally with the likes of The 
 Skatalites\, Lee ‘Scratch’ Perry\, Jimmy Cliff\, and Horace Andy.  Wi
 th numerous acclaimed releases and airplay on BBC Radio 1\, 1Xtra\, 6Music
  and Radio 4\, their music has been championed by the likes of David Rodig
 an\, Huey Morgan\, and Craig Charles.\n\nNew instrumental outfit Hekatones
  is comprised of a stellar rhythm section: Luke Rattenbury (guitar) - An a
 stonishing musician whose love of Jamaican Jazz guitarist Ernest Ranglin s
 its him perfectly within the group.  Luke plays a myriad of styles lendin
 g to his own sound aplomb with groove and attack. Dre Millns (keys) - A na
 tural talent\, Dre brings the soul power. He has appeared on innumerable r
 ecordings\, and tours internationally year-round with reputable reggae ban
 ds. Mike Shirley (guitar) - A musician of rare sensitivity\, craft\, and 
 groove.  Having spent many years with Resonators\, he has toured and reco
 rded extensively with many groups of diverse genres. Alex Moody (drums) - 
 Alex is an excellent educator\, has toured many years with ska reggae grou
 p The Dualers\, and has appeared on several Top 40 UK album credits.\n\nTh
 e legendary Roots Garden DJs - “Dubwise since 1995” - shall perform on
  the night\, as well as a warm-up DJ set from Hekatones.\n\nHeckatones\n\n
 RootsGardenrecords
ATTACH;FMTTYPE=image/jpeg:https://www.lewesconclub.com/wp-content/uploads/
 2024/01/Heckatones2024.jpg
END:VEVENT
BEGIN:VTIMEZONE
TZID:Europe/London
X-LIC-LOCATION:Europe/London
BEGIN:DAYLIGHT
DTSTART:20240331T020000
TZOFFSETFROM:+0000
TZOFFSETTO:+0100
TZNAME:BST
END:DAYLIGHT
END:VTIMEZONE
END:VCALENDAR