BEGIN:VCALENDAR
VERSION:2.0
PRODID:-//wp-events-plugin.com//7.2.3.1//EN
TZID:Europe/London
X-WR-TIMEZONE:Europe/London
BEGIN:VEVENT
UID:377@lewesconclub.com
DTSTART;TZID=Europe/London:20240303T143000
DTEND;TZID=Europe/London:20240303T143000
DTSTAMP:20240109T144510Z
URL:https://www.lewesconclub.com/events/henning-when-das-neuen-materialen-
 nachten-wip-matinee/
SUMMARY:Henning Wehn – Das neuen materialen nachten – WIP (Matinee)
DESCRIPTION:Comedy at the Con present Henning Wehn\n\nDoors open from: 2.30
 pm\n\nShow starts: 3.00pm Please note Matinee start time\n\nAll ages (unde
 r 16s must be accompanied by an adult)\n\nTickets available from: www.wego
 ttickets.com/event/603906\n\nJoin the German Comedy Ambassador for Teutoni
 c jolliness at its best. Expect some old favourites and plenty of new idea
 s for his upcoming tour Acid Wehn. Some might call it work-in-progress but
  Henning prefers to describe it as masterpiece-under-construction.\n\nCome
  along. Or else.\n\nHenning's most recent television and radio appearances
  include "Have I Got News For You" BBC1\, "Would I Lie To You" BBC1\, "Liv
 e At The Apollo" BBC2\, "Guessable" Comedy Central\, "Question Time" BBC1\
 , "8 Out Of Cats Does Countdown" Channel 4\, "Fighting Talk" BBC Radio 5 L
 ive and "The Unbelievable Truth" BBC Radio 4.\n\n"Wunderbar" The Times\n\n
 "Cor blimey" The Guardian\n\n[embedyt] https://www.youtube.com/watch?v=Psz
 mFlyUT0k[/embedyt]\n\nPlease note: If tickets are not currently available 
 please keep checking as the system is simply refreshing – when we are so
 ld out we will state SOLD OUT.\n\nwww.facebook.com/comedyatthecon/
ATTACH;FMTTYPE=image/jpeg:https://www.lewesconclub.com/wp-content/uploads/
 2023/12/Henning-Wehn.jpg
END:VEVENT
BEGIN:VTIMEZONE
TZID:Europe/London
X-LIC-LOCATION:Europe/London
BEGIN:STANDARD
DTSTART:20231029T010000
TZOFFSETFROM:+0100
TZOFFSETTO:+0000
TZNAME:GMT
END:STANDARD
END:VTIMEZONE
END:VCALENDAR