BEGIN:VCALENDAR
VERSION:2.0
PRODID:-//wp-events-plugin.com//7.2.3.1//EN
TZID:Europe/London
X-WR-TIMEZONE:Europe/London
BEGIN:VEVENT
UID:378@lewesconclub.com
DTSTART;TZID=Europe/London:20240314T193000
DTEND;TZID=Europe/London:20240314T223000
DTSTAMP:20240109T143910Z
URL:https://www.lewesconclub.com/events/henning-when-das-neuen-materialen-
 nachten-wip/
SUMMARY:Henning Wehn – Das neuen materialen nachten - WIP
DESCRIPTION:Comedy at the Con present Henning Wehn\n\nBar from: 5.00pm\n\nD
 oors open from: 7.30pm\n\nShow starts: 8.00pm\n\nPlease note 16+ (under 18
 s must be accompanied by an adult) \n\nTickets available from: www.wegotti
 ckets.com/event/603907\n\nJoin the German Comedy Ambassador for Teutonic j
 olliness at its best. Expect some old favourites and plenty of new ideas f
 or his upcoming tour Acid Wehn. Some might call it work-in-progress but He
 nning prefers to describe it as masterpiece-under-construction.\n\nCome al
 ong. Or else.\n\nHenning's most recent television and radio appearances in
 clude "Have I Got News For You" BBC1\, "Would I Lie To You" BBC1\, "Live A
 t The Apollo" BBC2\, "Guessable" Comedy Central\, "Question Time" BBC1\, "
 8 Out Of Cats Does Countdown" Channel 4\, "Fighting Talk" BBC Radio 5 Live
  and "The Unbelievable Truth" BBC Radio 4.\n\n"Wunderbar" The Times\n\n"Co
 r blimey" The Guardian\n\n[embedyt] https://www.youtube.com/watch?v=PszmFl
 yUT0k[/embedyt]\n\nPlease note: If tickets are not currently available ple
 ase keep checking as the system is simply refreshing – when we are sold 
 out we will state SOLD OUT.\n\nwww.facebook.com/comedyatthecon/
ATTACH;FMTTYPE=image/jpeg:https://www.lewesconclub.com/wp-content/uploads/
 2023/12/Henning-Wehn.jpg
END:VEVENT
BEGIN:VTIMEZONE
TZID:Europe/London
X-LIC-LOCATION:Europe/London
BEGIN:STANDARD
DTSTART:20231029T010000
TZOFFSETFROM:+0100
TZOFFSETTO:+0000
TZNAME:GMT
END:STANDARD
END:VTIMEZONE
END:VCALENDAR