BEGIN:VCALENDAR
VERSION:2.0
PRODID:-//wp-events-plugin.com//7.2.3.1//EN
TZID:Europe/London
X-WR-TIMEZONE:Europe/London
BEGIN:VEVENT
UID:352@lewesconclub.com
DTSTART;TZID=Europe/London:20240321T200000
DTEND;TZID=Europe/London:20240321T230000
DTSTAMP:20240207T152447Z
URL:https://www.lewesconclub.com/events/hilltop-sessions-dg-solaris/
SUMMARY:Hilltop Sessions - DG Solaris + Hattie Whitehead
DESCRIPTION:Hilltop Sessions Presents: DG Solaris + Hattie Whitehead\n\n\nD
 G Solaris is the project of wildly talented musician and producer\, Danny 
 Green\, previously known as Laish. A rakish front man\, making the audienc
 e laugh in one song and reducing them to bitter tears in the next. Support
  will come from Hattie Whitehead who blends folk sensibilities with an und
 eniably modern sound.\n\nBar from 5:00pm. Doors 8:00pm to 11:00pm.\n\nTick
 ets and more info: www.hilltopsessions.co.uk\nDG Solaris is the project of
  wildly talented musician and producer\, Danny Green. We saw him perform a
 t Camden's Green Note and knew we wanted him to come to Lewes. Blessed wit
 h a warm and affecting voice\, sung from the heart\, he has spent the last
  decade or so converting audiences across the world. Previously known as L
 aish\, he delivered four albums of wry\, eccentric guitar pop and in 2020
 \, he released his first as DG Solaris. As a performer\, Danny is a rakish
  front man\, making the audience laugh in one song and reducing them to bi
 tter tears in the next. He recently moved to Frome where he founded a succ
 essful series of magically intimate micro concerts known as Night River.\
 n\n\n\nHattie Whitehead does not pull her punches. Raised on folk and jazz
  greats of the sixties and seventies\, her smart lyrics and powerful\, out
 spoken female voice blend folk sensibilities with an undeniably modern sou
 nd.\n\nPerforming and writing since a young age and born into an artistic 
 family Hattie has won the Glastonbury Emerging Talent Competition in 2016 
 and her self released EPs have over 200k streams.  The outcome is a body 
 of work that takes Hattie's unflinching honesty when discussing the indust
 ry and it’s troubled relationship to women or un-earthing with eye-widen
 ing vulnerability her own personal experiences.\n\n
ATTACH;FMTTYPE=image/jpeg:https://www.lewesconclub.com/wp-content/uploads/
 2023/10/DCSolaris2024.jpg
END:VEVENT
BEGIN:VTIMEZONE
TZID:Europe/London
X-LIC-LOCATION:Europe/London
BEGIN:STANDARD
DTSTART:20231029T010000
TZOFFSETFROM:+0100
TZOFFSETTO:+0000
TZNAME:GMT
END:STANDARD
END:VTIMEZONE
END:VCALENDAR