BEGIN:VCALENDAR
VERSION:2.0
PRODID:-//wp-events-plugin.com//7.2.3.1//EN
TZID:Europe/London
X-WR-TIMEZONE:Europe/London
BEGIN:VEVENT
UID:310@lewesconclub.com
DTSTART;TZID=Europe/London:20230917T190000
DTEND;TZID=Europe/London:20230917T230000
DTSTAMP:20230903T164023Z
URL:https://www.lewesconclub.com/events/house-of-all/
SUMMARY:HOUSE Of ALL
DESCRIPTION:\n\n\n\n\n\n\n\nLove Thy Neighbour present: HOUSE Of ALL Suppor
 t Wasbo Derek\n\n\n\n\n\n\n\nTickets lovethyneighbourmusic.co.uk   or ww
 w.seetickets.com\n\n\n\nBar from 3:30pm. Doors 7:00pm to 11:00pm. Standing
 .\n\n\n\n\nHOUSE Of ALL appeared unexpectedly\, but not without a stellar 
 legacy. Five former members of The Fall gathered\, led by original guitari
 st and force behind Blue Orchids\, Martin Bramah\, along with Paul and Ste
 ve Hanley\, Simon Wolstencroft and Pete Greenway to record a left-field hi
 t earlier this year\, followed by a Marc Riley session\, a six-date tour (
 with Phil Lewis filling in for Pete temporarily)\, and a second LP already
  recorded. Now they’re hitting the road again\, with six more live shows
  planned for areas they missed the last-time\, plus a special new fan-only
  special release – and no\, it’s not the second album! Catch them whil
 e you can.\n\n\n\n\n\nAccessibility: We operate the Buddy Scheme at our gi
 gs. The Club is accessible for wheelchairs with management. It’s all on 
 one level apart from a small threshold at the front door for which we have
  a portable ramp. The toilets are not Building Regulations Part M complian
 t\, but one of the WC’s is reasonably accessible. Visiting outside gig t
 imes should present no problems\, but please email music@lewesconclub.com 
 ahead on gig nights so we can meet and greet and reserve a space with a vi
 ew of the stage.\n\nIf you require a carer at the venue\, please contact u
 s at info@lovethyneighbourmusic.co.uk for guestlist\, with evidence such a
 s a blue badge or access card.\n[embedyt] https://www.youtube.com/watch?v=
 bflFFUzxfDw[/embedyt]\n\n
ATTACH;FMTTYPE=image/jpeg:https://www.lewesconclub.com/wp-content/uploads/
 2023/07/HouseoFall.png
END:VEVENT
BEGIN:VTIMEZONE
TZID:Europe/London
X-LIC-LOCATION:Europe/London
BEGIN:DAYLIGHT
DTSTART:20230326T020000
TZOFFSETFROM:+0000
TZOFFSETTO:+0100
TZNAME:BST
END:DAYLIGHT
END:VTIMEZONE
END:VCALENDAR