BEGIN:VCALENDAR
VERSION:2.0
PRODID:-//wp-events-plugin.com//7.2.3.1//EN
TZID:Europe/London
X-WR-TIMEZONE:Europe/London
BEGIN:VEVENT
UID:366@lewesconclub.com
DTSTART;TZID=Europe/London:20240413T193000
DTEND;TZID=Europe/London:20240413T230000
DTSTAMP:20231204T204357Z
URL:https://www.lewesconclub.com/events/jah-wobble-invaders-of-the-heart/
SUMMARY:Jah Wobble + Invaders Of The Heart
DESCRIPTION:Love Thy Neighbour Present: Jah Wobble + Invaders Of The Heart\
 n\nTickets:  lovethyneighbourmusic.co.uk/event/jah-wobble-invaders-of-the
 -heart\n\nor www.seetickets.com\n\nBar from 5:00pm. Doors 7:30 pm - 11:00 
 pm. Standing. 18+.\n\nJah Wobble’s career speaks for itself\, spanning o
 ver 40 year’s he’s played on countless albums\, with performers such a
 s PIL’s John Lydon\, Brian Eno\, Bill Laswell\, U2’s The Edge\, Sinead
  O’Conner\, Primal Scream\, Bjork\, The Orb\, The Cranberries Dolores O 
 ́Riordan and many more\, as well as a regular on the hit TV show Never Mi
 nd the Buzzcocks.\n\nHis own band Invaders of the Heart have been an ongoi
 ng project involving many great session players and incorporated many styl
 es all with one commonality\, Jah’s skilful bass playing\, love of music
  and his smooth charisma. In January 2020 Jah Wobble &amp\; The Invaders o
 f the Heart toured their latest musical offering many of the shows selling
  better than the preceding tours the band are keen to return to the road i
 n 2022 for UK and European shows.\n\n“With his mighty bass\, Wobble is l
 ike an old-fashioned band leader\, barking out instructions within a caver
 nous\, space-echoey dub mix” The Guardian\n\n“Brilliant. Wobble and th
 e band are given a genuine standing ovation” Warren Miller\, Get Into Th
 is\n\n‘Guys that are simply at the top of their game.’ Graham J Hender
 son Louder than War\n\n[embedyt] https://www.youtube.com/watch?v=19XpsRcBR
 pM[/embedyt]
ATTACH;FMTTYPE=image/jpeg:https://www.lewesconclub.com/wp-content/uploads/
 2023/12/JahWobble2024.jpg
END:VEVENT
BEGIN:VTIMEZONE
TZID:Europe/London
X-LIC-LOCATION:Europe/London
BEGIN:DAYLIGHT
DTSTART:20240331T020000
TZOFFSETFROM:+0000
TZOFFSETTO:+0100
TZNAME:BST
END:DAYLIGHT
END:VTIMEZONE
END:VCALENDAR