BEGIN:VCALENDAR
VERSION:2.0
PRODID:-//wp-events-plugin.com//7.2.3.1//EN
TZID:Europe/London
X-WR-TIMEZONE:Europe/London
BEGIN:VEVENT
UID:319@lewesconclub.com
DTSTART;TZID=Europe/London:20230907T193000
DTEND;TZID=Europe/London:20230907T230000
DTSTAMP:20230904T133908Z
URL:https://www.lewesconclub.com/events/jeffrey-lewis-the-voltage/
SUMMARY:Jeffrey Lewis & The Voltage (Sold Out)
DESCRIPTION:Jeffrey Lewis &amp\; The Voltage have more or less perfected a 
 scuzzy and urban style of indie-folk - a 21st Century mash-up of Pete Seeg
 er\, R. Crumb and Sonic Youth.\n\nA born and raised New Yorker\, Lewis has
  been hard at work in the underground music and art world since the turn o
 f the century - touring throughout the world and releasing eight acclaimed
  albums on the record labels Rough Trade and Don Giovanni. He is also a wi
 dely respected comics artist who self-publishes a comic book series called
  "Statics".\n\nOn stage Lewis is backed by his band the Voltage\, includin
 g long-time collaborators Brent Cole (drums) and Mem Pahl (bass) as well a
 s recent addition Mallory Feuer (violin and keys). The spectacular full-le
 ngth Jeffrey Lewis &amp\; The Voltage album "Bad Wiring" was recorded in N
 ashville\, TN with producer Roger Moutenot (Yo La Tengo) and was released 
 November 1\, 2019.\n\nBar from 5:00pm.Doors 7:30pm. Starts 8:00pm. Standin
 g.\n\nTickets sold out\, join waiting list: www.seetickets.com
ATTACH;FMTTYPE=image/jpeg:https://www.lewesconclub.com/wp-content/uploads/
 2023/07/JLewis2023.jpg
END:VEVENT
BEGIN:VTIMEZONE
TZID:Europe/London
X-LIC-LOCATION:Europe/London
BEGIN:DAYLIGHT
DTSTART:20230326T020000
TZOFFSETFROM:+0000
TZOFFSETTO:+0100
TZNAME:BST
END:DAYLIGHT
END:VTIMEZONE
END:VCALENDAR