BEGIN:VCALENDAR
VERSION:2.0
PRODID:-//wp-events-plugin.com//7.2.3.1//EN
TZID:Europe/London
X-WR-TIMEZONE:Europe/London
BEGIN:VEVENT
UID:337@lewesconclub.com
DTSTART;TZID=Europe/London:20230915T190000
DTEND;TZID=Europe/London:20230915T233000
DTSTAMP:20230901T131446Z
URL:https://www.lewesconclub.com/events/jim-olly-present-strange-neighbour
 s-jon-n-and-j-mag/
SUMMARY:Jim & Olly present… Strange Neighbours\, Jon N and J-Mag
DESCRIPTION:Jim &amp\; Olly present a night of live music and groove DJs wi
 th:\nStrange Neighbours playing live!\nDJ Jon Neale playing indie dance cl
 assics\nJ- Mag spinning disco party vibes\nBar from 5:00pm. Doors 7:00pm. 
 Starts 8:00pm\nFree Entry! All welcome! +14 only\, under 18's accompanied 
 by an adult.\n
ATTACH;FMTTYPE=image/jpeg:https://www.lewesconclub.com/wp-content/uploads/
 2023/09/StrangeN2023b.jpg
END:VEVENT
BEGIN:VTIMEZONE
TZID:Europe/London
X-LIC-LOCATION:Europe/London
BEGIN:DAYLIGHT
DTSTART:20230326T020000
TZOFFSETFROM:+0000
TZOFFSETTO:+0100
TZNAME:BST
END:DAYLIGHT
END:VTIMEZONE
END:VCALENDAR