BEGIN:VCALENDAR
VERSION:2.0
PRODID:-//wp-events-plugin.com//7.2.3.1//EN
TZID:Europe/London
X-WR-TIMEZONE:Europe/London
BEGIN:VEVENT
UID:304@lewesconclub.com
DTSTART;TZID=Europe/London:20231004T190000
DTEND;TZID=Europe/London:20231004T223000
DTSTAMP:20230824T104931Z
URL:https://www.lewesconclub.com/events/jukebox-1264-fleetwood-macs-tango-
 in-the-night/
SUMMARY:Jukebox 1264… Fleetwood Mac’s Tango in the Night!
DESCRIPTION:Jukebox 1264 presents…Fleetwood Mac’s Tango in the Night!\n
 \nTickets in advance: £10 to £15 + b/f: www.ticketsource.co.uk\n\nPlease
  note that tickets on the door will cost £18\n\nBar from 5:00pm. Doors 7:
 00pm. Starts 8:00pm. Standing.\n\nFew bands have played such an epic role 
 in uniting audiences across generations like Fleetwood Mac! Through intrep
 id musical reinvention\, toxic instability\, and the loud characteristics 
 of all its members\, the band have been able to leave their mark on every 
 decade since the 1960s.\n\nTwenty years after their formation as a blues b
 and led by Peter Green\, and ten years after the release of Rumours under 
 the classic line-up of Mick\, Stevie\, Lindsey\, Christine and John\, in 1
 987\, the band embraced the eighties with the perfect pop album - Tango in
  the Night.\n\nIn true Fleetwood Mac style\, it is a turbulent\, yet mysti
 cal album filled to the brim with classics like Everywhere\, Little Lies\,
  Seven Wonders and Big Love. As well as the whole album being played in fu
 ll\, expect to hear even more Fleetwood Mac hits from Go Your Own Way to D
 reams\, Rhiannon and The Chain.\n\nJukebox 1264 are a pop ensemble formed 
 by the Lewes Music Group in 2021. Their themed concerts pay tribute to era
 s\, albums and artists throughout the last 60 years in popular music. Thei
 r debut concert in October 2021 was a sell-out tribute to Carole King’s 
 Tapestry followed by tributes to Billy Joel and The Beatles. As well as Fl
 eetwood Mac\, in 2023 and 2024 don’t miss their revisiting of Carole Kin
 g’s Tapestry and their ultimate disco revue - Boogie Wonderland. For mor
 e information visit www.lewesmusicgroup.com\n\n***Please note that Jukebox
  1264 is not a ‘tribute’ band. While many of our shows are centred aro
 und one artist and we attempt to recreate their music as authentically and
  tastefully as possible\, we reserve the right to make it unique to us whi
 le providing high quality performances.
ATTACH;FMTTYPE=image/jpeg:https://www.lewesconclub.com/wp-content/uploads/
 2023/06/TangointheNight.jpg
END:VEVENT
BEGIN:VTIMEZONE
TZID:Europe/London
X-LIC-LOCATION:Europe/London
BEGIN:DAYLIGHT
DTSTART:20230326T020000
TZOFFSETFROM:+0000
TZOFFSETTO:+0100
TZNAME:BST
END:DAYLIGHT
END:VTIMEZONE
END:VCALENDAR