BEGIN:VCALENDAR
VERSION:2.0
PRODID:-//wp-events-plugin.com//7.2.3.1//EN
TZID:Europe/London
X-WR-TIMEZONE:Europe/London
BEGIN:VEVENT
UID:356@lewesconclub.com
DTSTART;TZID=Europe/London:20240503T193000
DTEND;TZID=Europe/London:20240503T233000
DTSTAMP:20231025T113901Z
URL:https://www.lewesconclub.com/events/large-90s-2/
SUMMARY:Large 90s
DESCRIPTION:Under The Cosh Promotions Presents: Large 90s\n\nBar from 5:00
 pm. Doors open at 7:30pm with the band on stage at 8:45pm with the evening
  coming to a close around 11:30pm with DJ support before and after the per
 formance. Tickets £12 plus booking fee. 18+ Standing\n\nTickets:   www
 .seetickets.com\n\nUnder The Cosh Promotions proudly present Large 90s! A 
 seven piece band playing live classic 90s dance\, techno and drum and bass
  tunes you've heard before like you've never heard before!\n\nRegulars at 
 festivals all over the UK and a very energetic set.
ATTACH;FMTTYPE=image/jpeg:https://www.lewesconclub.com/wp-content/uploads/
 2023/10/Large90s2024.jpg
END:VEVENT
BEGIN:VTIMEZONE
TZID:Europe/London
X-LIC-LOCATION:Europe/London
BEGIN:DAYLIGHT
DTSTART:20240331T020000
TZOFFSETFROM:+0000
TZOFFSETTO:+0100
TZNAME:BST
END:DAYLIGHT
END:VTIMEZONE
END:VCALENDAR