BEGIN:VCALENDAR
VERSION:2.0
PRODID:-//wp-events-plugin.com//7.2.3.1//EN
TZID:Europe/London
X-WR-TIMEZONE:Europe/London
BEGIN:VEVENT
UID:348@lewesconclub.com
DTSTART;TZID=Europe/London:20231223T140000
DTEND;TZID=Europe/London:20231223T223000
DTSTAMP:20231120T160423Z
URL:https://www.lewesconclub.com/events/lewes-big-band-presents-a-jazzy-li
 ttle-christmas/
SUMMARY:A Jazzy Little Christmas (Two Shows)
DESCRIPTION:Lewes Big Band presents A Jazzy Little Christmas…\n\nAddition
 al Matinee Show\n\nMatinee Show: Doors 2:00pm\, Start 2:30pm. Tickets:  w
 ww.ticketsource.co.uk/lewes-music-group\nEveining Show: Doors 6:30pm. Star
 t 7:30pm. Tickets:  www.ticketsource.co.uk/lewes-music-group\n\nJoin the 
 Lewes Big Band as they present a joyful and family friendly evening of som
 e of the best Big Band Christmas Classics and fully immerse yourself in th
 e festive spirit. Pieces will include White Christmas\, All I want for Chr
 istmas is You and O Holy Night!\nUsing a 16-piece Big Band this will promi
 se to be a night of fun\, dancing and singing to start the perfect run up 
 to Christmas.\nThe Lewes Big Band was formed in 2019 as the Lewes Youth Ba
 nd\, since then they have gone on to play at Glyndebourne Opera House\, Fa
 ctory Live Worthing\, Con Club Lewes and All Saints Centre Lewes. The Lewe
 s Big Band's musicians include graduates or current students across many o
 f the UK's leading music institutions such as Royal College of Music\, Roy
 al Academy of Music\, Royal Birmingham Conservatoire\, Guildhall School of
  Music and Drama\, Royal Welsh College of Music and Drama\, University of 
 Chichester Conservatoire and Leeds Conservatoire. The Lewes Big Band is pa
 rt of the Lewes Music Group.\n*Please note that tickets on the door will c
 ost £18*\nFor your chance to sponsor a seat in the Lewes Big Band\, pleas
 e email admin@lewesmusicgroup.com. For prices starting from £75\, you wil
 l be entitled to two tickets\, your name in the programme\, a meet and gre
 et with the musician you are sponsoring on the day of the concert and a co
 mplimentary drink per person!\nMore information about the Lewes Music Grou
 p Can be found at: lewesmusicgroup.com\n\nLink to Facebook event: www.face
 book.com/events/334711862563603
ATTACH;FMTTYPE=image/jpeg:https://www.lewesconclub.com/wp-content/uploads/
 2023/10/JazzyXmas2023B.jpg
END:VEVENT
BEGIN:VTIMEZONE
TZID:Europe/London
X-LIC-LOCATION:Europe/London
BEGIN:STANDARD
DTSTART:20231029T010000
TZOFFSETFROM:+0100
TZOFFSETTO:+0000
TZNAME:GMT
END:STANDARD
END:VTIMEZONE
END:VCALENDAR