BEGIN:VCALENDAR
VERSION:2.0
PRODID:-//wp-events-plugin.com//7.2.3.1//EN
TZID:Europe/London
X-WR-TIMEZONE:Europe/London
BEGIN:VEVENT
UID:627@lewesconclub.com
DTSTART;TZID=Europe/London:20260128T193000
DTEND;TZID=Europe/London:20260128T230000
DTSTAMP:20251219T170308Z
URL:https://www.lewesconclub.com/events/lime/
SUMMARY:Lime
DESCRIPTION:\n\n\nLime return to the stage for the first time in 20 years- 
 be there to watch it happen.\nTickets £12 + b/f  www.skiddle.com/whats-o
 n/Brighton/Lewes-Con-Club/Lime\n\n\nFormed in the early 1990's Lime are pr
 obably the biggest band from that era you have never heard of. With suppor
 t tours and shows with bands like Reef\, Kula Shaker\, Katrina And The Wav
 es\, The Frames\, Toploader and many more.\n\nLime reformed in 2025\nCome 
 join them for the start of their next chapter.\nSupport from London's Ella
  Morgan\nSpecial Guests\; The Gulls\n\n\n\n\n
ATTACH;FMTTYPE=image/jpeg:https://www.lewesconclub.com/wp-content/uploads/
 2025/12/Lime2026LR.jpg
END:VEVENT
BEGIN:VTIMEZONE
TZID:Europe/London
X-LIC-LOCATION:Europe/London
BEGIN:STANDARD
DTSTART:20251026T010000
TZOFFSETFROM:+0100
TZOFFSETTO:+0000
TZNAME:GMT
END:STANDARD
END:VTIMEZONE
END:VCALENDAR