BEGIN:VCALENDAR
VERSION:2.0
PRODID:-//wp-events-plugin.com//7.2.3.1//EN
TZID:Europe/London
X-WR-TIMEZONE:Europe/London
BEGIN:VEVENT
UID:465@lewesconclub.com
DTSTART;TZID=Europe/London:20241027T150000
DTEND;TZID=Europe/London:20241027T220000
DTSTAMP:20240927T111546Z
URL:https://www.lewesconclub.com/events/love-music-hate-racism/
SUMMARY:Love Music Hate Racism
DESCRIPTION:Stand Up To Racism &amp\; Love Music Hate Racism Presents:\n\nA
 cts including:\n\nAtilla The Stockbroker\n\nRabbit Foot\n\nStrange Neighbo
 urs\n\nIsaac Jengwa\n\nDJ Danny Webb\n\nDJ Task\n\n3:00pm to 10:00pm\n\nFr
 ee entry with donation\n\nLewes Stand Up To Racism was formed after the fa
 r right tried to burn people whose staying or working in hotels this Summe
 r.\n\nThey also torched a children's library and attacked the grieving com
 munity of Southport with bricks\, attacks on Mosques and local shops.\n\nS
 ince then\, people blocked them from Brighton through Walthsmstow and all 
 points North.\n\nTommy Robinson and his far right movement are still confi
 dent enough to call national mobilisations.\n\nWe want to send out positiv
 e cultural vibes so that next time they mobilise\, we're ready for them. A
 lso\, young and old need an alternative to far right politics. This is why
  we're doing this.\n\nlewes.sutr@outlook.com\n\n
ATTACH;FMTTYPE=image/jpeg:https://www.lewesconclub.com/wp-content/uploads/
 2024/09/SUTR2024fb.jpg
END:VEVENT
BEGIN:VTIMEZONE
TZID:Europe/London
X-LIC-LOCATION:Europe/London
BEGIN:STANDARD
DTSTART:20241027T010000
TZOFFSETFROM:+0100
TZOFFSETTO:+0000
TZNAME:GMT
END:STANDARD
END:VTIMEZONE
END:VCALENDAR