BEGIN:VCALENDAR
VERSION:2.0
PRODID:-//wp-events-plugin.com//7.2.3.1//EN
TZID:Europe/London
X-WR-TIMEZONE:Europe/London
BEGIN:VEVENT
UID:264@lewesconclub.com
DTSTART;TZID=Europe/London:20230720T200000
DTEND;TZID=Europe/London:20230720T230000
DTSTAMP:20230301T152912Z
URL:https://www.lewesconclub.com/events/luke-jackson-zoe-watson/
SUMMARY:Luke Jackson & Zoe Watson
DESCRIPTION:Hilltop Sessions Presents: Luke Jackson &amp\; Zoe Watson\n\n 
 July brings us the wonderful song writing talents of Canterbury's Luke Jac
 kson who has been described as having one of the most distinctive voices o
 n the contemporary folk scene. Support from Brighton's Zoé Watson whose s
 parse music and angelic voice is reminiscent of London Grammar's Hannah Re
 id.\n\nBar from 5:00pm. Doors 8:00pm to 11:00pm.\n\nTickets and more info:
  www.hilltopsessions.co.uk\n\nLuke Jackson - Canterbury-based UK singer so
 ngwriter Luke Jackson has been playing live and recording for over 10 year
 s now\, steadily developing an enviable reputation for himself in the Folk
 \, Roots\, Americana &amp\; Acoustic circuits. Between his debut album\, 2
 012’s ‘More Than Boys’\, produced by the acclaimed Welsh Singer-Song
 writer Martyn Joseph\, through to his latest release in 2022\, 5 records\,
  including a live album ‘Solo\, Duo\, Trio’ were released to high prai
 se and 5* reviews! His last full length studio album ‘Journals’ was na
 med ‘Album of the Year’ by Fatea Magazine.\n\nBut it's when he's out o
 f the studio that Luke really comes to his own. He's played iconic venues 
 including Union Chapel and Nashville's Bluebird Café and supported the li
 kes of Richard Thompson\, Marillion and Jools Holland. He has been describ
 ed by Musician Magazine as being "Blessed with one of those soulful\, heav
 en-sent voices that soars with emotion or plunges into brooding intensity.
 " Mark Radcliffe's even compared him to Jeff Buckley which says something 
 about his talent!\n\nZoe Watson - is a singer-songwriter and musician who 
 grew up on the edge of Dartmoor in Devon. Her music is haunting\, ethereal
  and emotive. She explores different soundscapes with a penchant for both 
 acoustic folk and synthesizers. Her songs include a lot of storytelling ap
 proached with introspection &amp\; cutting honesty. Her deep voice and air
 y falsetto lend themselves to the often dark and brooding tone of her song
 s. Her music continues to expand in musicality and nuance and she is now r
 ecording with Tim Bidwell (Lucy Rose\, Matthew and The Atlas).\n\n[embedyt
 ] https://www.youtube.com/watch?v=vICCh_nak8E[/embedyt]
ATTACH;FMTTYPE=image/jpeg:https://www.lewesconclub.com/wp-content/uploads/
 2023/03/LukeJackson.jpg
END:VEVENT
BEGIN:VTIMEZONE
TZID:Europe/London
X-LIC-LOCATION:Europe/London
BEGIN:DAYLIGHT
DTSTART:20230326T020000
TZOFFSETFROM:+0000
TZOFFSETTO:+0100
TZNAME:BST
END:DAYLIGHT
END:VTIMEZONE
END:VCALENDAR