BEGIN:VCALENDAR
VERSION:2.0
PRODID:-//wp-events-plugin.com//7.2.3.1//EN
TZID:Europe/London
X-WR-TIMEZONE:Europe/London
BEGIN:VEVENT
UID:307@lewesconclub.com
DTSTART;TZID=Europe/London:20231213T193000
DTEND;TZID=Europe/London:20231213T223000
DTSTAMP:20230627T133715Z
URL:https://www.lewesconclub.com/events/modern-nature/
SUMMARY:Modern Nature
DESCRIPTION:Love Thy Neighbour present: Modern Nature\n\nGet tickets with o
 nly a £1 booking fee from: lovethyneighbourmusic.co.uk\nor from DICE: lin
 k.dice.fm\n\nBar from 5:00pm. Doors 7:30pm to 10:30pm. Standing\nAfter the
 ir incredible shows at The Rose Hill last year\, Modern Nature play Lewes 
 Con Club on Wednesday 13th December 2023.\n\nNo Fixed Point In Space\, the
  third full-length album by Jack Cooper’s Modern Nature\, takes the pale
 tte of sound and themes that were honed on 2021’s Island Of Noise and la
 unches them into an expansive world of openness and vivid technicolour. It
 ’s a music that hasn’t been heard before\; as melodic as anything Coop
 er has produced but framed by rhythms and instrumentation that reflect the
  chaos\, unpredictability and colour of the natural world.\n“With this r
 ecord\,” Cooper explains\, “I wanted the music to reflect nature: begi
 nnings and endings\, arrivals and departures\, process and chance. I wante
 d the music and the words to feel like roots\, branches\, mycelium\, the i
 ntricacies of a dawn chorus\, neurons firing\, the unknown.”\n“Most of
  the arrangement and orchestration is notated\, but the musicians are all 
 imaginative interpreters’” he says – and for the record\, they inclu
 de: Anton Lukoszevieze\, Mira Benjamin and Heather Roche of Apartment Hous
 e\, Alex Ward (This Is Not This Heat / Spiritualized)\, Dominic Lash\, Chr
 is Abrahams of The Necks\, Julie Tippetts (FKA Julie Driscoll) as well as 
 long-term collaborators Jeff Tobias (Sunwatchers) and Jim Wallis.\n“Ulti
 mately\,” concludes Cooper. “This is music I’ve always wanted to hea
 r. I read a quote of Einstein’s via Merce Cunningham that said there are
  “no fixed points in space” and that felt right. It felt like what I w
 as trying to achieve here.” modernnature.band\nPlus support\nSign up to 
 Love Thy Neighbour's monthly mailing list: Mailing List\n\n[embedyt] https
 ://www.youtube.com/watch?v=hceTNlSye4k[/embedyt]
ATTACH;FMTTYPE=image/jpeg:https://www.lewesconclub.com/wp-content/uploads/
 2023/06/ModernNature2023.jpg
END:VEVENT
BEGIN:VTIMEZONE
TZID:Europe/London
X-LIC-LOCATION:Europe/London
BEGIN:STANDARD
DTSTART:20231029T010000
TZOFFSETFROM:+0100
TZOFFSETTO:+0000
TZNAME:GMT
END:STANDARD
END:VTIMEZONE
END:VCALENDAR