BEGIN:VCALENDAR
VERSION:2.0
PRODID:-//wp-events-plugin.com//7.2.3.1//EN
TZID:Europe/London
X-WR-TIMEZONE:Europe/London
BEGIN:VEVENT
UID:308@lewesconclub.com
DTSTART;TZID=Europe/London:20240517T193000
DTEND;TZID=Europe/London:20240517T233000
DTSTAMP:20240506T075204Z
URL:https://www.lewesconclub.com/events/mojo-doctors-the-contenders/
SUMMARY:The Contenders & Guests
DESCRIPTION:A night of fun-loving\, beer-drinking music. The Contenders wit
 h their usual musical wizardry and uncanny understanding of blues in all i
 ts forms.\n\nExpect some guests from the Lewes music scene\n\nBar from 5:0
 0pm. Doors 7:30pm. Live music including two sets approx. 8:30pm to 11:00pm
 . Majority standing\n\nFree entry.
ATTACH;FMTTYPE=image/jpeg:https://www.lewesconclub.com/wp-content/uploads/
 2023/06/Contenders2024.jpg
END:VEVENT
BEGIN:VTIMEZONE
TZID:Europe/London
X-LIC-LOCATION:Europe/London
BEGIN:DAYLIGHT
DTSTART:20240331T020000
TZOFFSETFROM:+0000
TZOFFSETTO:+0100
TZNAME:BST
END:DAYLIGHT
END:VTIMEZONE
END:VCALENDAR