BEGIN:VCALENDAR
VERSION:2.0
PRODID:-//wp-events-plugin.com//7.2.3.1//EN
TZID:Europe/London
X-WR-TIMEZONE:Europe/London
BEGIN:VEVENT
UID:386@lewesconclub.com
DTSTART;TZID=Europe/London:20240426T190000
DTEND;TZID=Europe/London:20240426T230000
DTSTAMP:20240120T091132Z
URL:https://www.lewesconclub.com/events/moonlight-parade-ibex/
SUMMARY:Moonlight Parade + Ibex
DESCRIPTION:Bar: From 5.30pm\n\nDoors: 7pm\n\nStarts: 8pm\n\nCurfew: 11pm\n
 \nTickets: See Tickets\n\nJoin us for an evening of melodic and shimmering
  guitar-pop from Moonlight Parade and their special guests IBEX.\n\n5 frie
 nds doing what they love\, based on the South East Coast of England. Forme
 d 2018.\n\nInfluences: The Beatles / The Kinks / Love / Bowie / Roxy Music
  / T-Rex The Jam / The Clash XTC / Echo &amp\; The Bunnymen / New Order / 
 The Smiths / Stone Roses / Radiohead / Doves / The Coral / Betaband\n\n[em
 bedyt] https://www.youtube.com/watch?v=kUrp_pARQ8k[/embedyt]https://www.mo
 onlightparade.com/
ATTACH;FMTTYPE=image/jpeg:https://www.lewesconclub.com/wp-content/uploads/
 2024/01/Moonlight-Parade.png
END:VEVENT
BEGIN:VTIMEZONE
TZID:Europe/London
X-LIC-LOCATION:Europe/London
BEGIN:DAYLIGHT
DTSTART:20240331T020000
TZOFFSETFROM:+0000
TZOFFSETTO:+0100
TZNAME:BST
END:DAYLIGHT
END:VTIMEZONE
END:VCALENDAR