BEGIN:VCALENDAR
VERSION:2.0
PRODID:-//wp-events-plugin.com//7.2.3.1//EN
TZID:Europe/London
X-WR-TIMEZONE:Europe/London
BEGIN:VEVENT
UID:513@lewesconclub.com
DTSTART;TZID=Europe/London:20250302T140000
DTEND;TZID=Europe/London:20250302T173000
DTSTAMP:20250119T115436Z
URL:https://www.lewesconclub.com/events/mother-goose-3/
SUMMARY:LADS Pantomine - Mother Goose
DESCRIPTION:LADS present Mother Goose an Adult pantomine\n\nTickets £15 + 
 b/f on sale from 31st January 2025\n\nWill be available here: www.ticketso
 urce.co.uk/lewes-arms-dramatic-society\n\nFor more info:  www.ladspanto.o
 rg.uk\n\nFriday 28th February at 7:30pm\n\nSaturday 1st March at 2:30pm an
 d 7:30pm\n\nSunday 2nd March at 2:30pm\n\n18 and over only\, unreserved se
 ating.
ATTACH;FMTTYPE=image/jpeg:https://www.lewesconclub.com/wp-content/uploads/
 2024/12/LADs2025fb.jpg
END:VEVENT
BEGIN:VTIMEZONE
TZID:Europe/London
X-LIC-LOCATION:Europe/London
BEGIN:STANDARD
DTSTART:20241027T010000
TZOFFSETFROM:+0100
TZOFFSETTO:+0000
TZNAME:GMT
END:STANDARD
END:VTIMEZONE
END:VCALENDAR