BEGIN:VCALENDAR
VERSION:2.0
PRODID:-//wp-events-plugin.com//7.2.3.1//EN
TZID:Europe/London
X-WR-TIMEZONE:Europe/London
BEGIN:VEVENT
UID:382@lewesconclub.com
DTSTART;TZID=Europe/London:20240608T190000
DTEND;TZID=Europe/London:20240608T230000
DTSTAMP:20240123T100102Z
URL:https://www.lewesconclub.com/events/rory-mcleod-2/
SUMMARY:Rory McLeod
DESCRIPTION:Black Rabbit Productions Presents: Rory Mcleod\n\nBar from 5:00
 pm. Doors 7pm – 11pm. Standing\n\nTickets: www.seetickets.com\n\nRory Mc
 leod - ex-circus clown and fire eater. A one man soulband\, poet and story
 teller\, singing his own unique upbeat dance stories. A modern travelling 
 troubadour using tap shoes\, acappella\, harmonica\, guitar\, trombone\, s
 poons\, finger cymbals\, bandorea\, djembe and various percussion instrume
 nts!\n\nRory has travelled the globe for different reasons at different ti
 mes\, from Asia to the middle East from Gambia to Cuba\, Central America\,
  Australia\, North America\, Canada\, Europe and other nooks and crannies 
 of the earth.\n\n"You don't listen to McLeod you travel with him"\nCity Hu
 b\, Sydney (Australia)\n\n"I've travelled to look for work\, to mend a bro
 ken heart\, to be with someone I longed for. I'd travel to visit friends a
 nd on the way I'd make new ones\, I'd roam because I was curious to see wh
 at was around the next corner\, sometimes I travelled to follow the warmer
  weather and migrate... like the birds and the big whales and fishes do".\
 nRory\n\n[embedyt] https://www.youtube.com/watch?v=zKO4ifAaFmo[/embedyt]
ATTACH;FMTTYPE=image/jpeg:https://www.lewesconclub.com/wp-content/uploads/
 2024/01/Rory-McLeod.png
END:VEVENT
BEGIN:VTIMEZONE
TZID:Europe/London
X-LIC-LOCATION:Europe/London
BEGIN:DAYLIGHT
DTSTART:20240331T020000
TZOFFSETFROM:+0000
TZOFFSETTO:+0100
TZNAME:BST
END:DAYLIGHT
END:VTIMEZONE
END:VCALENDAR