BEGIN:VCALENDAR
VERSION:2.0
PRODID:-//wp-events-plugin.com//7.2.3.1//EN
TZID:Europe/London
X-WR-TIMEZONE:Europe/London
BEGIN:VEVENT
UID:389@lewesconclub.com
DTSTART;TZID=Europe/London:20241213T190000
DTEND;TZID=Europe/London:20241213T233000
DTSTAMP:20240926T153549Z
URL:https://www.lewesconclub.com/events/slade-uk-christmas-special/
SUMMARY:Slade Uk - Christmas Special
DESCRIPTION:Black Rabbit Productions Presents: Slade UK - The Uk's No.1 tri
 bute to Slade\n\nTickets £18+b/f : www.seetickets.com\n\nBar from 5:00pm.
  Doors 7:00pm. Starts 8:00pm.\n\nSlade Uk - Christmas Special\n\nSince 201
 1\, Slade UK have amazed and thrilled audiences all across the UK and Euro
 pe. Recreating the look and raw power of Slade at their best. Slade UK are
  now one of the top tribute acts in the country. With nearly 3 hours of ma
 terial to pick from\, Slade UK are able to deliver all the classic 70's hi
 ts as well as the 80's chart toppers Slade were never able to play live th
 emselves. This is the Christmas party you will be crazee to miss!\n\n[embe
 dyt] https://www.youtube.com/watch?v=RS27NDyGITY[/embedyt]
ATTACH;FMTTYPE=image/jpeg:https://www.lewesconclub.com/wp-content/uploads/
 2024/01/sladefb.jpg
END:VEVENT
BEGIN:VTIMEZONE
TZID:Europe/London
X-LIC-LOCATION:Europe/London
BEGIN:STANDARD
DTSTART:20241027T010000
TZOFFSETFROM:+0100
TZOFFSETTO:+0000
TZNAME:GMT
END:STANDARD
END:VTIMEZONE
END:VCALENDAR