BEGIN:VCALENDAR
VERSION:2.0
PRODID:-//wp-events-plugin.com//7.2.3.1//EN
TZID:Europe/London
X-WR-TIMEZONE:Europe/London
BEGIN:VEVENT
UID:207@lewesconclub.com
DTSTART;TZID=Europe/London:20220721T193000
DTEND;TZID=Europe/London:20220721T230000
DTSTAMP:20220703T105623Z
URL:https://www.lewesconclub.com/events/starfish-fundraiser-hugh-harris-th
 e-kooks-sam-walker-lotte-pearl-theo-howard/
SUMMARY:Starfish fundraiser: Hugh Harris (The Kooks)\, Sam Walker\, Lotte P
 earl & Theo Howard
DESCRIPTION:\n\n\n\nA Hilltop Session and Starfish Presentation:\n\nBar fro
 m 5:00. Doors 7:30pm to 11:00pm.\n\nTickets: £10 + b/f on line at www.hil
 ltopsessions.co.uk  or Con Club bar.\n\nWe're delighted to welcome Hugh H
 arris\, Sam Walker\, Lotte Pearl and Theo Howard\, at Lewes Con Club to su
 pport Starfish.\n\nStarfish Youth Music is the brilliant music charity tha
 t helps young people find their musical voice\, and give them confidence i
 n their own creativity. Within the setting of a regular band-practice\, yo
 ung people explore writing songs and jamming\, encouraging them to communi
 cate ideas\, share skills\, and make decisions for themselves.\n\nThe memb
 ers create the music\, with the support of experienced and very musical st
 aff. Its all about doing your own thing and helping others\, raising the r
 oof\, laying foundations for life.\n\nHugh Harris: “Starfish was everyth
 ing to me growing up in Lewes at a time when grocery stores sold groceries
 . Long live Starfish\, long live youth music programmes”\n\n\n\n\n\n\nTh
 e Kooks guitarist Hugh Harris’s stunning self-titled solo album is one o
 f love\, loss\, strength and tragedy\, introspection and self-discovery. H
 is music is an intimate diary into his life\, and a tour de force of imagi
 nation.\n\nYou’ll find songs set around train crashes\, alien love affai
 rs and dizzying lyrical montages from twenty years in one of indie rock’
 s greatest modern success stories.\n\nHugh has travelled the world since h
 e was fifteen learning to arrange for many instruments\, keen to capture t
 he clear\, rich sounds in his head. Writing and playing with musicians and
  producers worldwide\, inserting captivating snapshots of Marrakesh\, Rish
 ikesh\, St Petersburg\, Melbourne\, LA and Singapore into his music\, Hugh
  finished up his journey recording brass\, wind and percussion in a decons
 ecrated chapel in Old Havana\, Cuba with trumpet aficionado Yasek Manzano 
 Silva and his band.\n\nSam Walker: "I was involved in Starfish right from 
 the start. Both as a participant and tutor.\n\nIt's a glorious open doorwa
 y into the world of music\, a totally supportive place to meet people\, fi
 nd what you want to do and develop your craft. It's been hugely important 
 for me and it's hugely important that it continues."\n\nFalling through dr
 eamscapes\, imagined lands and different realities. Stumbling into rolling
 \, dancefloor rocking grooves and heart breaking soaring melodies along th
 e way. Sam Walkers' songs and instrumentals are full of new stories\, tend
 er twists and anthemic melody. His live shows have gained him a reputation
  for boundless energy and much multi-instrumentalism. Sam has toured the w
 orld over and is equally at home rocking a dancefloor or serenading a livi
 ng room. Expect hope\, fury and joy.\n\nLotte Pearl: Lotte Pearl is a Sing
 er Songwriter currently based in Bristol.  She gigs around local venues a
 nd festivals. She has been singing since she was born and plays the piano\
 , ukulele and guitar. Her musical inspirations are MIKA\, Amy Winehouse a
 nd Leonard Cohen. She also very much idealises Alabama Shakes. She would 
 describe her music genre as alternative pop/jazz. Check out her debut EP '
 Terracotta Feelings'.\n\nTheo Howard: Theo Howard is a Singer-Songwriter w
 ith a Cabaret twist. Based in Chichester\, He'll write beside his keyboard
  about anything\, from the mundane to the bizzare\, but never without a li
 ttle heart. Performing in pubs\, clubs and musical hubs\, his love of the 
 musical stylings of The Divine Comedy\, Tom Lehrer &amp\; Flight of the Co
 nchords bleed heavily in his own works\, resulting in a loving blend of si
 lly\, warmth and\, most importantly\, camp.\n\nwww.hilltopsessions.co.uk\n
 \nwww.starfishlewes.co.uk\n\n[embedyt] https://www.youtube.com/watch?v=OqP
 m3-PElQA[/embedyt]\n\n\n\n
ATTACH;FMTTYPE=image/jpeg:https://www.lewesconclub.com/wp-content/uploads/
 2022/07/Starfish2022.jpg
END:VEVENT
BEGIN:VTIMEZONE
TZID:Europe/London
X-LIC-LOCATION:Europe/London
BEGIN:DAYLIGHT
DTSTART:20220327T020000
TZOFFSETFROM:+0000
TZOFFSETTO:+0100
TZNAME:BST
END:DAYLIGHT
END:VTIMEZONE
END:VCALENDAR