BEGIN:VCALENDAR
VERSION:2.0
PRODID:-//wp-events-plugin.com//7.2.3.1//EN
TZID:Europe/London
X-WR-TIMEZONE:Europe/London
BEGIN:VEVENT
UID:385@lewesconclub.com
DTSTART;TZID=Europe/London:20240322T193000
DTEND;TZID=Europe/London:20240322T230000
DTSTAMP:20240120T085440Z
URL:https://www.lewesconclub.com/events/the-croupiers-northern-rare-and-cl
 assic-soul-live-plus-dj-paddy-shevlin/
SUMMARY:The Croupiers - Northern\, Rare and Classic Soul LIVE!! plus DJ Pad
 dy Shevlin
DESCRIPTION:Bar: From 5.30pm\n\nDoors: 7.30pm\n\nCroupiers on stage: 8.30pm
 \n\nCurfew: 11pm\n\nTickets: www.ticketsource.co.uk/the-croupiers\n\nSuper
  Early-bird - £10\nEarly-bird - £12\nStandard - £14\n£15 OTD (If any r
 emain)\n\nFollowing their packed performance last summer\, The Croupiers a
 re back at Lewes Con Club with a night crammed full of Northern\, Rare and
  Classic Soul Music for dancing like nobody's watching\, performed live by
  a powerhouse 10 piece band\, with plenty of new additions to the repertoi
 re and much loved favourites of the genre!\n\nAfter a scorcher of an inaug
 ural year\, which saw the group pack out venues across the south coast and
  beyond\, 2024 promises big things\, so join us for the first of an alread
 y very busy 2024 schedule!\n\nWe're also very excited to welcome along the
  Legendary South-Coast Soul-Man\, DJ Paddy Shevlin (Too Darn Soulful\, So
 ul Survivors Family)\, spinning those platters that matter!\n\n[embedyt] h
 ttps://www.youtube.com/watch?v=0Uf7eWZ2iA4[/embedyt]\n\nwww.thecroupiers.o
 rg\nhttps://www.youtube.com/channel/UC8NvGJUXbtP3KM7ES8Ij9Yg\nhttps://www.
 facebook.com/thecroupiers
ATTACH;FMTTYPE=image/jpeg:https://www.lewesconclub.com/wp-content/uploads/
 2024/01/The-Croupiers-2.jpg
END:VEVENT
BEGIN:VTIMEZONE
TZID:Europe/London
X-LIC-LOCATION:Europe/London
BEGIN:STANDARD
DTSTART:20231029T010000
TZOFFSETFROM:+0100
TZOFFSETTO:+0000
TZNAME:GMT
END:STANDARD
END:VTIMEZONE
END:VCALENDAR