BEGIN:VCALENDAR
VERSION:2.0
PRODID:-//wp-events-plugin.com//7.2.3.1//EN
TZID:Europe/London
X-WR-TIMEZONE:Europe/London
BEGIN:VEVENT
UID:303@lewesconclub.com
DTSTART;TZID=Europe/London:20230728T193000
DTEND;TZID=Europe/London:20230728T235900
DTSTAMP:20230617T111116Z
URL:https://www.lewesconclub.com/events/the-croupiers-northern-rare-and-cl
 assic-soul/
SUMMARY:The Croupiers - Northern\, Rare and Classic Soul
DESCRIPTION:The Croupiers - Northern\, Rare and Classic Soul\n\nTickets £1
 0.50 + b/f: www.ticketsource.co.uk\n\nBar from 5:00pm. Doors 7:30pm. Start
 s 8:00pm\n\nFormed in Brighton in late '22\, but by no means beginners\, T
 he Croupiers are a powerhouse 10 piece live Northern Soul Revue\, playing 
 lots of classics of the genre\, plus some choice rarities and a sprinkling
  of soul classics. The band features the cream of soul and funk musicians 
 and performers from the south coast\, with decades of experience playing o
 n international stages at prestigious events\, festivals and venues.Keepin
 g the faith and recreating some of the best Northern tunes\, many of which
  you’ll hear live nowhere else\, with a slick\, authentic\, high energy 
 live show not-to-be-missed\, that’s what it’s all about - Four-to-the-
 Floor Stomping SOUL MUSIC!\n\nSlip on your baggies\, and hit that floor\nD
 o we love love you? Indeed we do!  See you on the floor!\n\nwww.facebook.
 com/thecroupiers\n\nPlus DJs TBC
ATTACH;FMTTYPE=image/jpeg:https://www.lewesconclub.com/wp-content/uploads/
 2023/06/Croupiers2023.jpg
END:VEVENT
BEGIN:VTIMEZONE
TZID:Europe/London
X-LIC-LOCATION:Europe/London
BEGIN:DAYLIGHT
DTSTART:20230326T020000
TZOFFSETFROM:+0000
TZOFFSETTO:+0100
TZNAME:BST
END:DAYLIGHT
END:VTIMEZONE
END:VCALENDAR