BEGIN:VCALENDAR
VERSION:2.0
PRODID:-//wp-events-plugin.com//7.2.3.1//EN
TZID:Europe/London
X-WR-TIMEZONE:Europe/London
BEGIN:VEVENT
UID:390@lewesconclub.com
DTSTART;TZID=Europe/London:20240216T193000
DTEND;TZID=Europe/London:20240216T233000
DTSTAMP:20240124T110641Z
URL:https://www.lewesconclub.com/events/the-dead-reds-4/
SUMMARY:The Dead Reds
DESCRIPTION:The Dead Reds return to the Con Club + Support TBA\n\nTickets w
 ww.ticketsource.co.uk\n\nBar from 5:00pm. Doors from 7.30 Standing.\n\n\nW
 ell our first gig of 2024 is here\, and it's a big one!\n\nWe are coming i
 nto the new year with a brand new line up\, some as yet unheard new songs\
 , a brand new logo\, and lots of new merchandise too! As many of you know 
 The Con Club is pretty much our home venue these days\, so it seems very f
 itting to launch this new chapter of the band with our closest fans in and
  around Lewes.\n\nTickets are £10\, and they will be the same price on th
 e door if any remain on the day. Doors open at 7.30\, and the support band
  (To be announced soon!) will be on at 8PM.\n\nThis will be the first perf
 ormance with our new line up\, and there will be more news on that soon! T
 his will also be the first chance to grab some of our brand new tees\, wit
 h our new logo loud and proud.\n\nCome on Lewes - Blow the dreary February
  evenings away with a killer night of rock n roll. Let's have it!!\nThe De
 ad Reds\nX\n\n&nbsp\;
ATTACH;FMTTYPE=image/jpeg:https://www.lewesconclub.com/wp-content/uploads/
 2024/01/DReds2024.jpg
END:VEVENT
BEGIN:VTIMEZONE
TZID:Europe/London
X-LIC-LOCATION:Europe/London
BEGIN:STANDARD
DTSTART:20231029T010000
TZOFFSETFROM:+0100
TZOFFSETTO:+0000
TZNAME:GMT
END:STANDARD
END:VTIMEZONE
END:VCALENDAR