BEGIN:VCALENDAR
VERSION:2.0
PRODID:-//wp-events-plugin.com//7.2.3.1//EN
TZID:Europe/London
X-WR-TIMEZONE:Europe/London
BEGIN:VEVENT
UID:309@lewesconclub.com
DTSTART;TZID=Europe/London:20230714T193000
DTEND;TZID=Europe/London:20230714T233000
DTSTAMP:20230630T072540Z
URL:https://www.lewesconclub.com/events/the-dead-reds-album-launch/
SUMMARY:The Dead Reds Album Launch
DESCRIPTION:The Dead Reds Album Launch + The Deniros\n\nTickets:  www.tick
 etsource.co.uk\nBar from 5:00pm. Doors 7:30 to 11:30pm\n\nFrom The Dead Re
 ds: We are VERY excited to announce we will be playing the release show fo
 r our new album ‘Circle Serpent’.\nWe have been workin’ hard over th
 e last few months along with our producer/mix engineer Jake Rousham and ma
 stering engineer Jon Sevink to create something we are truly proud of. We 
 can’t wait for you guys to hear the album and we are so buzzed to perfor
 m it live for you.\nWe are also stoked to have the brilliant The Deniros s
 upporting us!\n\nwww.facebook.com/TheDeadReds
ATTACH;FMTTYPE=image/jpeg:https://www.lewesconclub.com/wp-content/uploads/
 2023/06/DRAlbum2023.jpg
END:VEVENT
BEGIN:VTIMEZONE
TZID:Europe/London
X-LIC-LOCATION:Europe/London
BEGIN:DAYLIGHT
DTSTART:20230326T020000
TZOFFSETFROM:+0000
TZOFFSETTO:+0100
TZNAME:BST
END:DAYLIGHT
END:VTIMEZONE
END:VCALENDAR