BEGIN:VCALENDAR
VERSION:2.0
PRODID:-//wp-events-plugin.com//7.2.3.1//EN
TZID:Europe/London
X-WR-TIMEZONE:Europe/London
BEGIN:VEVENT
UID:305@lewesconclub.com
DTSTART;TZID=Europe/London:20230809T193000
DTEND;TZID=Europe/London:20230809T230000
DTSTAMP:20230624T150254Z
URL:https://www.lewesconclub.com/events/the-legendary-wailers-feat-junior-
 marvin/
SUMMARY:The Legendary Wailers feat Junior Marvin
DESCRIPTION:African Night Fever in collaboration with Easy Skankin presents
 \nThe Legendary Wailers feat Junior MarvinBar from 5:00pm. Doors 7.30pm - 
 11.30pm. Standing\n\n\nTickets (No Booking Fees): buytickets.at/easyskanki
 nltd/944991\n\nJulian Junior Marvin was born in Kingston\, Jamaica. He mov
 ed to London as a child\, where his family and the UK theater community nu
 rtured his love for acting and music. He appeared in The Beatles’ film H
 elp\, followed by a number of successful appearances on British television
 . Julian Junior was also a member of the London cast of the musical Hairan
 d can be heard on the original London cast recording.\nAfter playing in va
 rious London-based bands\, including Blue Ace Unit\, Herbie Goins &amp\; T
 he Night-Timers\, White Rabbit\, and Salt &amp\; Pepper\, Julian Junior co
 ntinued his musical apprenticeship in America\, playing with such Blues an
 d R&amp\;B legends as T-Bone Walker\, Billy Preston and Ike &amp\; Tina Tu
 rner. He quickly earned a reputation as an innovative and expressive blues
 /rock guitarist.\nInvited to join the Keef Hartley Band\, pioneers of the 
 burgeoning British blues/rock scene\, Julian Junior made a significant con
 tribution as a writer\, singer and lead guitarist to their acclaimed Seven
 ty-Second Bravealbum. He also appeared on their follow-up release Lancashi
 re Hustler.\nJulian Junior followed up with his own rock band\, Hanson\, w
 ho was quickly signed to Emerson\, Lake &amp\; Palmer’s Manticore label 
 by Mario “The Big M” Medious\, label manager. This was followed by the
  Hanson album Magic Dragon.\nFinding himself an in-demand session guitaris
 t\, particularly for artists on the Island Records label\, Julian Junior c
 ontributed to albums by Traffic\, Fairport Convention\, Reebop Kwaku Baah\
 , Toots &amp\; The Maytals\, Stomu Yamashta\, Remi Kabaka\, Eddie Quansah\
 , Rico Rodriguez\, and Steve Winwood.\nOn February 14\, 1977\, Julian Juni
 or was invited to join both Stevie Wonder’s band and Bob Marley &amp\; T
 he Wailers band. His parents and musician friends helped him decide to acc
 ept Bob Marley’s invitation because they were both Jamaicans. The rest i
 s history. The acclaimed ExodusLP became Julian Junior’s debut with Bob 
 Marley &amp\; The Wailers. In 1999\, Time Magazine declared ExodusAlbum Of
  The Century\, while “One Love” was named Song of the Millennium in 20
 00. Julian Junior was lead guitarist and musical contributor on all subseq
 uent Bob Marley &amp\; the Wailers albums\, and toured worldwide with the 
 Wailers until Bob’s passing in 1981.\nSince then\, Julian Junior has rel
 eased four CDs with The Wailers Band: ID\, Majestic Warriors\, Jah Message
 and My Friends (Live)\,numerous solo projects include “Wailin’ For Lov
 e\,” “Smokin’\,” “To The Big M Music\,” and “Lion To Zion Du
 b Wise.” In 2002\, Julian Junior was included in Guitar World Magazine
 ’s “Top 100 Guitarists of All Time” for his guitar solo on “Africa
  Unite” from the Bob Marley &amp\; the Wailers Survivalalbum.Julian Juni
 or has also been a featured player on albums by Burning Spear\, Bunny Wail
 er\, Beres Hammond\, Culture\, Joe Higgs\, SOJA\, The Meditations\, Israel
  Vibration\, Alpha Blondy\, The Congos\, and Alborosie\, amongst others.\n
 After touring with many incarnations of The Wailers since Bob Marley’s p
 assing\, Julian Junior has stepped out to front his own unique version of 
 The Wailers\, playing and singing Bob Marley &amp\; the Wailers hit songs 
 the way Bob intended them to be heard.\nJulian Junior Marvin’s new first
  new single “Message of Love” drops worldwide in 2019\; an introductio
 n to the forthcoming album Message Of Love.
ATTACH;FMTTYPE=image/jpeg:https://www.lewesconclub.com/wp-content/uploads/
 2023/06/Wailers2023.jpg
END:VEVENT
BEGIN:VTIMEZONE
TZID:Europe/London
X-LIC-LOCATION:Europe/London
BEGIN:DAYLIGHT
DTSTART:20230326T020000
TZOFFSETFROM:+0000
TZOFFSETTO:+0100
TZNAME:BST
END:DAYLIGHT
END:VTIMEZONE
END:VCALENDAR