BEGIN:VCALENDAR
VERSION:2.0
PRODID:-//wp-events-plugin.com//7.2.3.1//EN
TZID:Europe/London
X-WR-TIMEZONE:Europe/London
BEGIN:VEVENT
UID:388@lewesconclub.com
DTSTART;TZID=Europe/London:20240328T190000
DTEND;TZID=Europe/London:20240328T230000
DTSTAMP:20240120T163656Z
URL:https://www.lewesconclub.com/events/the-lost-page-treatise/
SUMMARY:The Lost Page – Treatise
DESCRIPTION:Bar: From 5.30pm\n\nDoors: 7pm\n\nStart: 8pm\n\nTickets £5: ht
 tps://raffohouse.bandcamp.com\n\nBack from Japan\, MIRANDA and THE REBEL K
 AMI will perform The Bunny Page. Three times. In one night.\n\nIn 1967\, C
 ornelius Cardew finished the longest graphic score in existence — TREATI
 SE. It has 193 pages. Except it used to have 194. The lost page\, a.k.a. T
 he Bunny Page was known to be in the possession of Geno (Foreman)\, and la
 ter of Eno (Brian). Last year\, in Japan\, it was found again. We brought 
 it back — to be played for the first time in history.\n\nOur promise: t
 he origin of The Bunny Page and how it got lost. A soundtrack\, to image
 s that tell this story. A koto. A live rock band\, and the opposite of a r
 ock band (not at the same time). Tape\, and electronics. Three variations 
 of the page\, at three different points in Time. Plus\, the possible synch
 ronisation of many obsolete machines that were barely designed to work in 
 pairs. Because Avant Garde either is fun\, or it ain’t nothing.\n\nThe c
 oncert will feature musicians playing obscure instruments (koto\, sitar\, 
 tape machines…)\, projecting videos and drawings/animations\, and workin
 g with multi-tracked loopers to put on what should be a weird\, entertaini
 ng\, psychedelic show that tells a story about 70’s avant-garde composer
 s\, Japanese gods\, and bunnies.\n\nWebsite:  http://chumbacca.com/bunny/
 \n\n&nbsp\;\n\n&nbsp\;
ATTACH;FMTTYPE=image/jpeg:https://www.lewesconclub.com/wp-content/uploads/
 2024/01/The-Lost-Page-Treatise-2.png
END:VEVENT
BEGIN:VTIMEZONE
TZID:Europe/London
X-LIC-LOCATION:Europe/London
BEGIN:STANDARD
DTSTART:20231029T010000
TZOFFSETFROM:+0100
TZOFFSETTO:+0000
TZNAME:GMT
END:STANDARD
END:VTIMEZONE
END:VCALENDAR