BEGIN:VCALENDAR
VERSION:2.0
PRODID:-//wp-events-plugin.com//7.2.3.1//EN
TZID:Europe/London
X-WR-TIMEZONE:Europe/London
BEGIN:VEVENT
UID:467@lewesconclub.com
DTSTART;TZID=Europe/London:20241113T193000
DTEND;TZID=Europe/London:20241113T223000
DTSTAMP:20240927T113144Z
URL:https://www.lewesconclub.com/events/the-music-of-george-harrison-live-
 2/
SUMMARY:The Music Of George Harrison - Live!
DESCRIPTION:The Music Of George Harrison - Live!  ...By The All Things Mus
 t Pass DUO\n\nTickets: wegottickets.com/event/628142\n\nBar from 5:00pm. D
 oors 7:30pm. First set 8:00pm\n\nIt is now more than half a century since 
 the release of George Harrison’s magnum opus\, the triple album All Thin
 gs Must Pass. To celebrate this enduring treasure of 20th century music\, 
 front man Alex Eberhard and guitarist Bernd Rest of the now legendary All 
 Things Must Pass Orchestra (who have been playing annual sell-out shows at
  Henley’s Kenton Theatre) are touring a programme with a special focus o
 n this era-defining album. The show consists of a fascinating selection of
  songs mainly drawn from All Things Must Pass (such as If Not For You\, Is
 n’t It A Pity and the anthemic My Sweet Lord)\, but will also feature ot
 her material from Harrison’s incredibly diverse musical output\, such as
  the celebrated masterpieces Something\, Here Comes The Sun and All Those 
 Years Ago.\n\nThe two musicians have carefully arranged the material as a 
 special\, intimate and pared-down duo set\, retaining the essence of each 
 song in versions for two guitars and two vocals. Musical gems from four de
 cades of sublime songwriting – all hand-picked and performed with love a
 nd attention to detail by George Harrison specialist Alex Eberhard and gui
 tarist Bernd Rest.\n\n"That was perfect... thanks for paying my dad so muc
 h respect…"\n\nDhani Harrison\, following a performance by the duo in He
 nley in 2021\n\n“Alex Eberhard … captures the subtleties\, colour and 
 power that infuse so many of George’s songs…”\n\nHenley Herald\n\n
 “Bliss. Total bliss. Brilliant music brilliantly delivered by brilliant 
 musicians.”\n\nChichester Festival\n\n[embedyt] https://www.youtube.com/
 watch?v=_U7oTUa3D9c[/embedyt]
ATTACH;FMTTYPE=image/jpeg:https://www.lewesconclub.com/wp-content/uploads/
 2023/08/ATMP2023.jpeg
END:VEVENT
BEGIN:VTIMEZONE
TZID:Europe/London
X-LIC-LOCATION:Europe/London
BEGIN:STANDARD
DTSTART:20241027T010000
TZOFFSETFROM:+0100
TZOFFSETTO:+0000
TZNAME:GMT
END:STANDARD
END:VTIMEZONE
END:VCALENDAR