BEGIN:VCALENDAR
VERSION:2.0
PRODID:-//wp-events-plugin.com//7.2.3.1//EN
TZID:Europe/London
X-WR-TIMEZONE:Europe/London
BEGIN:VEVENT
UID:384@lewesconclub.com
DTSTART;TZID=Europe/London:20240223T193000
DTEND;TZID=Europe/London:20240223T223000
DTSTAMP:20240120T082724Z
URL:https://www.lewesconclub.com/events/the-southern-slamdoor-band-very-sp
 ecial-guests/
SUMMARY:The Southern Slamdoor Band + Very Special Guests
DESCRIPTION:Bar: From 5pm. Doors 7.30pm – 10.30pm. Standing only\n\nFree 
 Admission\n\nBrighton based blues.\n\nA new twist for a good time\n\nBroug
 ht together to perform five songs at a one-off gig in November 2022\, the 
 Southern Slamdoor Band found playing together was such fun they decided to
  carry on.\n\nFour musicians from diverse music backgrounds\, all with a g
 reat deal of experience from playing in many different bands\, the Souther
 n Slamdoor Band brings a new twist to the blues genre with their good time
 \, barefootin' boogaloo blues!\n\n[embedyt] https://www.youtube.com/watch?
 v=PmS7ikvBnQ0[/embedyt]\n\n&nbsp\;
ATTACH;FMTTYPE=image/jpeg:https://www.lewesconclub.com/wp-content/uploads/
 2024/01/slamdoor-2.jpg
END:VEVENT
BEGIN:VTIMEZONE
TZID:Europe/London
X-LIC-LOCATION:Europe/London
BEGIN:STANDARD
DTSTART:20231029T010000
TZOFFSETFROM:+0100
TZOFFSETTO:+0000
TZNAME:GMT
END:STANDARD
END:VTIMEZONE
END:VCALENDAR