BEGIN:VCALENDAR
VERSION:2.0
PRODID:-//wp-events-plugin.com//7.2.3.1//EN
TZID:Europe/London
X-WR-TIMEZONE:Europe/London
BEGIN:VEVENT
UID:346@lewesconclub.com
DTSTART;TZID=Europe/London:20240504T190000
DTEND;TZID=Europe/London:20240504T230000
DTSTAMP:20240422T171449Z
URL:https://www.lewesconclub.com/events/the-u2-experience/
SUMMARY:The U2 Experience
DESCRIPTION:Black Rabbit Productions Presents: The U2 Experience\n\nTickets
 : £12.50 + b/f: www.seetickets.com\n \n\n\nBar from 5:00pm. Doors: 7:00p
 m – 11:00pm. Standing.\n\n\n\nThe U2 Experience is a slick\, accomplishe
 d tribute to the live music of the legendary U2\, delivered by four highly
  experienced and dedicated musicians. Based at their own suite of rehearsa
 l/recording studios in the Midlands\, the band are centrally placed to per
 form anywhere within the UK and beyond.\nThe show is a full set of U2's be
 st known singles and most loved album tracks\, played authentically with m
 inute attention to detail. It features a spectacular sequenced lighting sh
 ow and backdrop visuals on an LED screen throughout the show.\nThe band ha
 ve made quite an impact on the tribute scene\, with shows booked across th
 e Midlands and the North\, several thousand YouTube video views in a short
  space of time\, and subscribers across five continents. They have also at
 tracted the attention of Graham Baker\, U2’s original record company exe
 c (EMI/Island Records)\, who has visited their studios and attended a rece
 nt sell-out gig in Birmingham.\nThis is his review:\nI suppose I should po
 int out that I am a former Senior Record Exec of EMI Records and Island Re
 cords London of some 30 years and I did work on the first three (and a hal
 f) albums and singles from U2. So I was intrigued to see how good a job th
 ese guys made of their 'tribute'. They did not disappoint. It was terrific
 \, a highly professional performance that they have every right to be prou
 d of. By the opening title I was teleported back 40 years to the four youn
 g Irishmen I worked with in the early 80's.\n\nFB event link  www.faceboo
 k.com/events/1519469105462947\n[embedyt] https://www.youtube.com/watch?v=H
 IzZrt8P3sI[/embedyt]
ATTACH;FMTTYPE=image/jpeg:https://www.lewesconclub.com/wp-content/uploads/
 2023/09/U2XP2024.jpg
END:VEVENT
BEGIN:VTIMEZONE
TZID:Europe/London
X-LIC-LOCATION:Europe/London
BEGIN:DAYLIGHT
DTSTART:20240331T020000
TZOFFSETFROM:+0000
TZOFFSETTO:+0100
TZNAME:BST
END:DAYLIGHT
END:VTIMEZONE
END:VCALENDAR